BEGIN:VCALENDAR
VERSION:2.0
PRODID:-//White Haven Area Community Library - ECPv6.15.18//NONSGML v1.0//EN
CALSCALE:GREGORIAN
METHOD:PUBLISH
X-WR-CALNAME:White Haven Area Community Library
X-ORIGINAL-URL:https://whitehavenlibrary.com
X-WR-CALDESC:Events for White Haven Area Community Library
REFRESH-INTERVAL;VALUE=DURATION:PT1H
X-Robots-Tag:noindex
X-PUBLISHED-TTL:PT1H
BEGIN:VTIMEZONE
TZID:America/New_York
BEGIN:DAYLIGHT
TZOFFSETFROM:-0500
TZOFFSETTO:-0400
TZNAME:EDT
DTSTART:20250309T070000
END:DAYLIGHT
BEGIN:STANDARD
TZOFFSETFROM:-0400
TZOFFSETTO:-0500
TZNAME:EST
DTSTART:20251102T060000
END:STANDARD
BEGIN:DAYLIGHT
TZOFFSETFROM:-0500
TZOFFSETTO:-0400
TZNAME:EDT
DTSTART:20260308T070000
END:DAYLIGHT
BEGIN:STANDARD
TZOFFSETFROM:-0400
TZOFFSETTO:-0500
TZNAME:EST
DTSTART:20261101T060000
END:STANDARD
BEGIN:DAYLIGHT
TZOFFSETFROM:-0500
TZOFFSETTO:-0400
TZNAME:EDT
DTSTART:20270314T070000
END:DAYLIGHT
BEGIN:STANDARD
TZOFFSETFROM:-0400
TZOFFSETTO:-0500
TZNAME:EST
DTSTART:20271107T060000
END:STANDARD
END:VTIMEZONE
BEGIN:VEVENT
DTSTART;TZID=America/New_York:20260507T183000
DTEND;TZID=America/New_York:20260507T203000
DTSTAMP:20260422T220522
CREATED:20260331T205218Z
LAST-MODIFIED:20260331T205218Z
UID:10000907-1778178600-1778185800@whitehavenlibrary.com
SUMMARY:East Side Borough Meeting
DESCRIPTION:
URL:https://whitehavenlibrary.com/event/east-side-borough-meeting-2/2026-05-07/
LOCATION:John Murphy Room
CATEGORIES:Featured
END:VEVENT
BEGIN:VEVENT
DTSTART;TZID=America/New_York:20260604T183000
DTEND;TZID=America/New_York:20260604T203000
DTSTAMP:20260422T220522
CREATED:20260331T205218Z
LAST-MODIFIED:20260331T205218Z
UID:10000908-1780597800-1780605000@whitehavenlibrary.com
SUMMARY:East Side Borough Meeting
DESCRIPTION:
URL:https://whitehavenlibrary.com/event/east-side-borough-meeting-2/2026-06-04/
LOCATION:John Murphy Room
CATEGORIES:Featured
END:VEVENT
BEGIN:VEVENT
DTSTART;TZID=America/New_York:20260702T183000
DTEND;TZID=America/New_York:20260702T203000
DTSTAMP:20260422T220522
CREATED:20260331T205218Z
LAST-MODIFIED:20260331T205218Z
UID:10000909-1783017000-1783024200@whitehavenlibrary.com
SUMMARY:East Side Borough Meeting
DESCRIPTION:
URL:https://whitehavenlibrary.com/event/east-side-borough-meeting-2/2026-07-02/
LOCATION:John Murphy Room
CATEGORIES:Featured
END:VEVENT
BEGIN:VEVENT
DTSTART;TZID=America/New_York:20260806T183000
DTEND;TZID=America/New_York:20260806T203000
DTSTAMP:20260422T220522
CREATED:20260331T205218Z
LAST-MODIFIED:20260331T205218Z
UID:10000910-1786041000-1786048200@whitehavenlibrary.com
SUMMARY:East Side Borough Meeting
DESCRIPTION:
URL:https://whitehavenlibrary.com/event/east-side-borough-meeting-2/2026-08-06/
LOCATION:John Murphy Room
CATEGORIES:Featured
END:VEVENT
BEGIN:VEVENT
DTSTART;TZID=America/New_York:20260903T183000
DTEND;TZID=America/New_York:20260903T203000
DTSTAMP:20260422T220522
CREATED:20260331T205218Z
LAST-MODIFIED:20260331T205218Z
UID:10000911-1788460200-1788467400@whitehavenlibrary.com
SUMMARY:East Side Borough Meeting
DESCRIPTION:
URL:https://whitehavenlibrary.com/event/east-side-borough-meeting-2/2026-09-03/
LOCATION:John Murphy Room
CATEGORIES:Featured
END:VEVENT
BEGIN:VEVENT
DTSTART;TZID=America/New_York:20261001T183000
DTEND;TZID=America/New_York:20261001T203000
DTSTAMP:20260422T220522
CREATED:20260331T205218Z
LAST-MODIFIED:20260331T205218Z
UID:10000912-1790879400-1790886600@whitehavenlibrary.com
SUMMARY:East Side Borough Meeting
DESCRIPTION:
URL:https://whitehavenlibrary.com/event/east-side-borough-meeting-2/2026-10-01/
LOCATION:John Murphy Room
CATEGORIES:Featured
END:VEVENT
BEGIN:VEVENT
DTSTART;TZID=America/New_York:20261105T183000
DTEND;TZID=America/New_York:20261105T203000
DTSTAMP:20260422T220522
CREATED:20260331T205218Z
LAST-MODIFIED:20260331T205218Z
UID:10000913-1793903400-1793910600@whitehavenlibrary.com
SUMMARY:East Side Borough Meeting
DESCRIPTION:
URL:https://whitehavenlibrary.com/event/east-side-borough-meeting-2/2026-11-05/
LOCATION:John Murphy Room
CATEGORIES:Featured
END:VEVENT
END:VCALENDAR