BEGIN:VCALENDAR
VERSION:2.0
PRODID:-//White Haven Area Community Library - ECPv6.15.18//NONSGML v1.0//EN
CALSCALE:GREGORIAN
METHOD:PUBLISH
X-WR-CALNAME:White Haven Area Community Library
X-ORIGINAL-URL:https://whitehavenlibrary.com
X-WR-CALDESC:Events for White Haven Area Community Library
REFRESH-INTERVAL;VALUE=DURATION:PT1H
X-Robots-Tag:noindex
X-PUBLISHED-TTL:PT1H
BEGIN:VTIMEZONE
TZID:America/New_York
BEGIN:DAYLIGHT
TZOFFSETFROM:-0500
TZOFFSETTO:-0400
TZNAME:EDT
DTSTART:20250309T070000
END:DAYLIGHT
BEGIN:STANDARD
TZOFFSETFROM:-0400
TZOFFSETTO:-0500
TZNAME:EST
DTSTART:20251102T060000
END:STANDARD
BEGIN:DAYLIGHT
TZOFFSETFROM:-0500
TZOFFSETTO:-0400
TZNAME:EDT
DTSTART:20260308T070000
END:DAYLIGHT
BEGIN:STANDARD
TZOFFSETFROM:-0400
TZOFFSETTO:-0500
TZNAME:EST
DTSTART:20261101T060000
END:STANDARD
BEGIN:DAYLIGHT
TZOFFSETFROM:-0500
TZOFFSETTO:-0400
TZNAME:EDT
DTSTART:20270314T070000
END:DAYLIGHT
BEGIN:STANDARD
TZOFFSETFROM:-0400
TZOFFSETTO:-0500
TZNAME:EST
DTSTART:20271107T060000
END:STANDARD
END:VTIMEZONE
BEGIN:VEVENT
DTSTART;TZID=America/New_York:20260805T183000
DTEND;TZID=America/New_York:20260805T200000
DTSTAMP:20260423T032309
CREATED:20260331T200548Z
LAST-MODIFIED:20260331T200548Z
UID:10000820-1785954600-1785960000@whitehavenlibrary.com
SUMMARY:Adult Book Club
DESCRIPTION:
URL:https://whitehavenlibrary.com/event/adult-book-club-3/2026-08-05/
LOCATION:White Haven Area Community Library\, 121 Towanda St\, White Haven\, PA\, 18661\, United States
CATEGORIES:Adult,Featured
END:VEVENT
BEGIN:VEVENT
DTSTART;TZID=America/New_York:20260806T180000
DTEND;TZID=America/New_York:20260806T200000
DTSTAMP:20260423T032309
CREATED:20260331T201258Z
LAST-MODIFIED:20260331T201258Z
UID:10000845-1786039200-1786046400@whitehavenlibrary.com
SUMMARY:Scrabble Club
DESCRIPTION:
URL:https://whitehavenlibrary.com/event/scrabble-club-2/2026-08-06/
LOCATION:White Haven Area Community Library\, 121 Towanda St\, White Haven\, PA\, 18661\, United States
CATEGORIES:Featured
END:VEVENT
BEGIN:VEVENT
DTSTART;TZID=America/New_York:20260806T183000
DTEND;TZID=America/New_York:20260806T203000
DTSTAMP:20260423T032309
CREATED:20260331T205218Z
LAST-MODIFIED:20260331T205218Z
UID:10000910-1786041000-1786048200@whitehavenlibrary.com
SUMMARY:East Side Borough Meeting
DESCRIPTION:
URL:https://whitehavenlibrary.com/event/east-side-borough-meeting-2/2026-08-06/
LOCATION:John Murphy Room
CATEGORIES:Featured
END:VEVENT
BEGIN:VEVENT
DTSTART;TZID=America/New_York:20260813T063000
DTEND;TZID=America/New_York:20260813T203000
DTSTAMP:20260423T032309
CREATED:20260331T204538Z
LAST-MODIFIED:20260331T204538Z
UID:10000894-1786602600-1786653000@whitehavenlibrary.com
SUMMARY:Lions Club Meeting
DESCRIPTION:
URL:https://whitehavenlibrary.com/event/lions-club-meeting-2/2026-08-13/
LOCATION:White Haven Area Community Library\, 121 Towanda St\, White Haven\, PA\, 18661\, United States
CATEGORIES:Featured
END:VEVENT
BEGIN:VEVENT
DTSTART;TZID=America/New_York:20260813T100000
DTEND;TZID=America/New_York:20260813T120000
DTSTAMP:20260423T032309
CREATED:20260331T202321Z
LAST-MODIFIED:20260331T203638Z
UID:10000870-1786615200-1786622400@whitehavenlibrary.com
SUMMARY:Fiber Arts Club
DESCRIPTION:
URL:https://whitehavenlibrary.com/event/fiber-arts-club-2/2026-08-13/
LOCATION:White Haven Area Community Library\, 121 Towanda St\, White Haven\, PA\, 18661\, United States
CATEGORIES:Featured
END:VEVENT
BEGIN:VEVENT
DTSTART;TZID=America/New_York:20260820T180000
DTEND;TZID=America/New_York:20260820T200000
DTSTAMP:20260423T032309
CREATED:20260331T201258Z
LAST-MODIFIED:20260331T201258Z
UID:10000846-1787248800-1787256000@whitehavenlibrary.com
SUMMARY:Scrabble Club
DESCRIPTION:
URL:https://whitehavenlibrary.com/event/scrabble-club-2/2026-08-20/
LOCATION:White Haven Area Community Library\, 121 Towanda St\, White Haven\, PA\, 18661\, United States
CATEGORIES:Featured
END:VEVENT
BEGIN:VEVENT
DTSTART;TZID=America/New_York:20260827T063000
DTEND;TZID=America/New_York:20260827T203000
DTSTAMP:20260423T032309
CREATED:20260331T204538Z
LAST-MODIFIED:20260331T204538Z
UID:10000895-1787812200-1787862600@whitehavenlibrary.com
SUMMARY:Lions Club Meeting
DESCRIPTION:
URL:https://whitehavenlibrary.com/event/lions-club-meeting-2/2026-08-27/
LOCATION:White Haven Area Community Library\, 121 Towanda St\, White Haven\, PA\, 18661\, United States
CATEGORIES:Featured
END:VEVENT
BEGIN:VEVENT
DTSTART;TZID=America/New_York:20260827T100000
DTEND;TZID=America/New_York:20260827T120000
DTSTAMP:20260423T032309
CREATED:20260331T202321Z
LAST-MODIFIED:20260331T203638Z
UID:10000871-1787824800-1787832000@whitehavenlibrary.com
SUMMARY:Fiber Arts Club
DESCRIPTION:
URL:https://whitehavenlibrary.com/event/fiber-arts-club-2/2026-08-27/
LOCATION:White Haven Area Community Library\, 121 Towanda St\, White Haven\, PA\, 18661\, United States
CATEGORIES:Featured
END:VEVENT
END:VCALENDAR