BEGIN:VCALENDAR
VERSION:2.0
PRODID:-//White Haven Area Community Library - ECPv6.15.18//NONSGML v1.0//EN
CALSCALE:GREGORIAN
METHOD:PUBLISH
X-ORIGINAL-URL:https://whitehavenlibrary.com
X-WR-CALDESC:Events for White Haven Area Community Library
REFRESH-INTERVAL;VALUE=DURATION:PT1H
X-Robots-Tag:noindex
X-PUBLISHED-TTL:PT1H
BEGIN:VTIMEZONE
TZID:America/New_York
BEGIN:DAYLIGHT
TZOFFSETFROM:-0500
TZOFFSETTO:-0400
TZNAME:EDT
DTSTART:20250309T070000
END:DAYLIGHT
BEGIN:STANDARD
TZOFFSETFROM:-0400
TZOFFSETTO:-0500
TZNAME:EST
DTSTART:20251102T060000
END:STANDARD
BEGIN:DAYLIGHT
TZOFFSETFROM:-0500
TZOFFSETTO:-0400
TZNAME:EDT
DTSTART:20260308T070000
END:DAYLIGHT
BEGIN:STANDARD
TZOFFSETFROM:-0400
TZOFFSETTO:-0500
TZNAME:EST
DTSTART:20261101T060000
END:STANDARD
BEGIN:DAYLIGHT
TZOFFSETFROM:-0500
TZOFFSETTO:-0400
TZNAME:EDT
DTSTART:20270314T070000
END:DAYLIGHT
BEGIN:STANDARD
TZOFFSETFROM:-0400
TZOFFSETTO:-0500
TZNAME:EST
DTSTART:20271107T060000
END:STANDARD
END:VTIMEZONE
BEGIN:VEVENT
DTSTART;VALUE=DATE:20260301
DTEND;VALUE=DATE:20260401
DTSTAMP:20260422T214537
CREATED:20260227T181057Z
LAST-MODIFIED:20260227T181057Z
UID:10000759-1772323200-1775001599@whitehavenlibrary.com
SUMMARY:March Reading Incentive Program
DESCRIPTION:
URL:https://whitehavenlibrary.com/event/march-reading-incentive-program/
LOCATION:White Haven Area Community Library\, 121 Towanda St\, White Haven\, PA\, 18661\, United States
CATEGORIES:Bulletin,Featured
ATTACH;FMTTYPE=image/png:https://whitehavenlibrary.com/wp-content/uploads/2026/02/The-White-Haven-Area-Community-Library-is-excited-to-encourage-children-to-read-this-February-with-a-special-cozy-reading-incentive-program-3.png
END:VEVENT
BEGIN:VEVENT
DTSTART;TZID=America/New_York:20260302T160000
DTEND;TZID=America/New_York:20260302T180000
DTSTAMP:20260422T214537
CREATED:20260217T145425Z
LAST-MODIFIED:20260217T145425Z
UID:10000720-1772467200-1772474400@whitehavenlibrary.com
SUMMARY:YMCA After School Program
DESCRIPTION:A 10-week after-school program for students in grades 4-8
URL:https://whitehavenlibrary.com/event/ymca-after-school-program/2026-03-02/
LOCATION:White Haven Area Community Library\, 121 Towanda St\, White Haven\, PA\, 18661\, United States
CATEGORIES:Bulletin,Featured
ATTACH;FMTTYPE=image/png:https://whitehavenlibrary.com/wp-content/uploads/2026/02/image.png
END:VEVENT
BEGIN:VEVENT
DTSTART;TZID=America/New_York:20260304T160000
DTEND;TZID=America/New_York:20260304T180000
DTSTAMP:20260422T214537
CREATED:20260217T145425Z
LAST-MODIFIED:20260217T145425Z
UID:10000721-1772640000-1772647200@whitehavenlibrary.com
SUMMARY:YMCA After School Program
DESCRIPTION:A 10-week after-school program for students in grades 4-8
URL:https://whitehavenlibrary.com/event/ymca-after-school-program/2026-03-04/
LOCATION:White Haven Area Community Library\, 121 Towanda St\, White Haven\, PA\, 18661\, United States
CATEGORIES:Bulletin,Featured
ATTACH;FMTTYPE=image/png:https://whitehavenlibrary.com/wp-content/uploads/2026/02/image.png
END:VEVENT
BEGIN:VEVENT
DTSTART;TZID=America/New_York:20260304T183000
DTEND;TZID=America/New_York:20260304T203000
DTSTAMP:20260422T214537
CREATED:20250210T165227Z
LAST-MODIFIED:20260220T143243Z
UID:10000750-1772649000-1772656200@whitehavenlibrary.com
SUMMARY:Book Club
DESCRIPTION:Book to be discussed…Five Tuesdays in Winter\nby Lily King
URL:https://whitehavenlibrary.com/event/book-club-4/2026-03-04/
LOCATION:White Haven Area Community Library\, 121 Towanda St\, White Haven\, PA\, 18661\, United States
CATEGORIES:Featured
END:VEVENT
BEGIN:VEVENT
DTSTART;TZID=America/New_York:20260305T160000
DTEND;TZID=America/New_York:20260305T180000
DTSTAMP:20260422T214537
CREATED:20260217T145425Z
LAST-MODIFIED:20260217T145425Z
UID:10000722-1772726400-1772733600@whitehavenlibrary.com
SUMMARY:YMCA After School Program
DESCRIPTION:A 10-week after-school program for students in grades 4-8
URL:https://whitehavenlibrary.com/event/ymca-after-school-program/2026-03-05/
LOCATION:White Haven Area Community Library\, 121 Towanda St\, White Haven\, PA\, 18661\, United States
CATEGORIES:Bulletin,Featured
ATTACH;FMTTYPE=image/png:https://whitehavenlibrary.com/wp-content/uploads/2026/02/image.png
END:VEVENT
BEGIN:VEVENT
DTSTART;TZID=America/New_York:20260305T180000
DTEND;TZID=America/New_York:20260305T200000
DTSTAMP:20260422T214537
CREATED:20240606T154004Z
LAST-MODIFIED:20260220T143403Z
UID:10000751-1772733600-1772740800@whitehavenlibrary.com
SUMMARY:Scrabble Club
DESCRIPTION:
URL:https://whitehavenlibrary.com/event/scrabble-club/2026-03-05/
LOCATION:White Haven Area Community Library\, 121 Towanda St\, White Haven\, PA\, 18661\, United States
CATEGORIES:Featured
END:VEVENT
BEGIN:VEVENT
DTSTART;TZID=America/New_York:20260309T160000
DTEND;TZID=America/New_York:20260309T180000
DTSTAMP:20260422T214537
CREATED:20260217T145425Z
LAST-MODIFIED:20260217T145425Z
UID:10000723-1773072000-1773079200@whitehavenlibrary.com
SUMMARY:YMCA After School Program
DESCRIPTION:A 10-week after-school program for students in grades 4-8
URL:https://whitehavenlibrary.com/event/ymca-after-school-program/2026-03-09/
LOCATION:White Haven Area Community Library\, 121 Towanda St\, White Haven\, PA\, 18661\, United States
CATEGORIES:Bulletin,Featured
ATTACH;FMTTYPE=image/png:https://whitehavenlibrary.com/wp-content/uploads/2026/02/image.png
END:VEVENT
BEGIN:VEVENT
DTSTART;TZID=America/New_York:20260311T160000
DTEND;TZID=America/New_York:20260311T180000
DTSTAMP:20260422T214537
CREATED:20260217T145425Z
LAST-MODIFIED:20260217T145425Z
UID:10000724-1773244800-1773252000@whitehavenlibrary.com
SUMMARY:YMCA After School Program
DESCRIPTION:A 10-week after-school program for students in grades 4-8
URL:https://whitehavenlibrary.com/event/ymca-after-school-program/2026-03-11/
LOCATION:White Haven Area Community Library\, 121 Towanda St\, White Haven\, PA\, 18661\, United States
CATEGORIES:Bulletin,Featured
ATTACH;FMTTYPE=image/png:https://whitehavenlibrary.com/wp-content/uploads/2026/02/image.png
END:VEVENT
BEGIN:VEVENT
DTSTART;TZID=America/New_York:20260312T063000
DTEND;TZID=America/New_York:20260312T203000
DTSTAMP:20260422T214537
CREATED:20260331T204538Z
LAST-MODIFIED:20260331T204538Z
UID:10000884-1773297000-1773347400@whitehavenlibrary.com
SUMMARY:Lions Club Meeting
DESCRIPTION:
URL:https://whitehavenlibrary.com/event/lions-club-meeting-2/2026-03-12/
LOCATION:White Haven Area Community Library\, 121 Towanda St\, White Haven\, PA\, 18661\, United States
CATEGORIES:Featured
END:VEVENT
BEGIN:VEVENT
DTSTART;TZID=America/New_York:20260312T100000
DTEND;TZID=America/New_York:20260312T120000
DTSTAMP:20260422T214537
CREATED:20220411T165620Z
LAST-MODIFIED:20260220T143607Z
UID:10000753-1773309600-1773316800@whitehavenlibrary.com
SUMMARY:Fiber Arts Club
DESCRIPTION:
URL:https://whitehavenlibrary.com/event/fiber-arts-club/2026-03-12/
LOCATION:White Haven Area Community Library\, 121 Towanda St\, White Haven\, PA\, 18661\, United States
CATEGORIES:Featured
END:VEVENT
BEGIN:VEVENT
DTSTART;TZID=America/New_York:20260312T160000
DTEND;TZID=America/New_York:20260312T180000
DTSTAMP:20260422T214537
CREATED:20260217T145425Z
LAST-MODIFIED:20260217T145425Z
UID:10000725-1773331200-1773338400@whitehavenlibrary.com
SUMMARY:YMCA After School Program
DESCRIPTION:A 10-week after-school program for students in grades 4-8
URL:https://whitehavenlibrary.com/event/ymca-after-school-program/2026-03-12/
LOCATION:White Haven Area Community Library\, 121 Towanda St\, White Haven\, PA\, 18661\, United States
CATEGORIES:Bulletin,Featured
ATTACH;FMTTYPE=image/png:https://whitehavenlibrary.com/wp-content/uploads/2026/02/image.png
END:VEVENT
BEGIN:VEVENT
DTSTART;TZID=America/New_York:20260314T120000
DTEND;TZID=America/New_York:20260314T140000
DTSTAMP:20260422T214537
CREATED:20230204T021054Z
LAST-MODIFIED:20260220T143703Z
UID:10000755-1773489600-1773496800@whitehavenlibrary.com
SUMMARY:LEGO Club
DESCRIPTION:
URL:https://whitehavenlibrary.com/event/lego-club/2026-03-14/
LOCATION:White Haven Area Community Library\, 121 Towanda St\, White Haven\, PA\, 18661\, United States
CATEGORIES:Featured
END:VEVENT
BEGIN:VEVENT
DTSTART;TZID=America/New_York:20260316T160000
DTEND;TZID=America/New_York:20260316T180000
DTSTAMP:20260422T214537
CREATED:20260217T145425Z
LAST-MODIFIED:20260217T145425Z
UID:10000726-1773676800-1773684000@whitehavenlibrary.com
SUMMARY:YMCA After School Program
DESCRIPTION:A 10-week after-school program for students in grades 4-8
URL:https://whitehavenlibrary.com/event/ymca-after-school-program/2026-03-16/
LOCATION:White Haven Area Community Library\, 121 Towanda St\, White Haven\, PA\, 18661\, United States
CATEGORIES:Bulletin,Featured
ATTACH;FMTTYPE=image/png:https://whitehavenlibrary.com/wp-content/uploads/2026/02/image.png
END:VEVENT
BEGIN:VEVENT
DTSTART;TZID=America/New_York:20260317T183000
DTEND;TZID=America/New_York:20260317T200000
DTSTAMP:20260422T214537
CREATED:20260301T211322Z
LAST-MODIFIED:20260301T211530Z
UID:10000756-1773772200-1773777600@whitehavenlibrary.com
SUMMARY:Grandparents Raising Grandchildren
DESCRIPTION:
URL:https://whitehavenlibrary.com/event/grandparents-raising-grandchildren-5-2/
LOCATION:White Haven Area Community Library\, 121 Towanda St\, White Haven\, PA\, 18661\, United States
CATEGORIES:Featured
END:VEVENT
BEGIN:VEVENT
DTSTART;TZID=America/New_York:20260318T160000
DTEND;TZID=America/New_York:20260318T180000
DTSTAMP:20260422T214537
CREATED:20260217T145425Z
LAST-MODIFIED:20260217T145425Z
UID:10000727-1773849600-1773856800@whitehavenlibrary.com
SUMMARY:YMCA After School Program
DESCRIPTION:A 10-week after-school program for students in grades 4-8
URL:https://whitehavenlibrary.com/event/ymca-after-school-program/2026-03-18/
LOCATION:White Haven Area Community Library\, 121 Towanda St\, White Haven\, PA\, 18661\, United States
CATEGORIES:Bulletin,Featured
ATTACH;FMTTYPE=image/png:https://whitehavenlibrary.com/wp-content/uploads/2026/02/image.png
END:VEVENT
BEGIN:VEVENT
DTSTART;TZID=America/New_York:20260319T130000
DTEND;TZID=America/New_York:20260319T150000
DTSTAMP:20260422T214537
CREATED:20220427T160350Z
LAST-MODIFIED:20260220T143945Z
UID:10000757-1773925200-1773932400@whitehavenlibrary.com
SUMMARY:Garden Club
DESCRIPTION:
URL:https://whitehavenlibrary.com/event/garden-club/2026-03-19/
LOCATION:White Haven Area Community Library\, 121 Towanda St\, White Haven\, PA\, 18661\, United States
CATEGORIES:All Ages,Featured
END:VEVENT
BEGIN:VEVENT
DTSTART;TZID=America/New_York:20260319T160000
DTEND;TZID=America/New_York:20260319T180000
DTSTAMP:20260422T214537
CREATED:20260217T145425Z
LAST-MODIFIED:20260217T145425Z
UID:10000728-1773936000-1773943200@whitehavenlibrary.com
SUMMARY:YMCA After School Program
DESCRIPTION:A 10-week after-school program for students in grades 4-8
URL:https://whitehavenlibrary.com/event/ymca-after-school-program/2026-03-19/
LOCATION:White Haven Area Community Library\, 121 Towanda St\, White Haven\, PA\, 18661\, United States
CATEGORIES:Bulletin,Featured
ATTACH;FMTTYPE=image/png:https://whitehavenlibrary.com/wp-content/uploads/2026/02/image.png
END:VEVENT
BEGIN:VEVENT
DTSTART;TZID=America/New_York:20260319T180000
DTEND;TZID=America/New_York:20260319T200000
DTSTAMP:20260422T214537
CREATED:20240606T154004Z
LAST-MODIFIED:20260220T143403Z
UID:10000752-1773943200-1773950400@whitehavenlibrary.com
SUMMARY:Scrabble Club
DESCRIPTION:
URL:https://whitehavenlibrary.com/event/scrabble-club/2026-03-19/
LOCATION:White Haven Area Community Library\, 121 Towanda St\, White Haven\, PA\, 18661\, United States
CATEGORIES:Featured
END:VEVENT
BEGIN:VEVENT
DTSTART;TZID=America/New_York:20260323T160000
DTEND;TZID=America/New_York:20260323T180000
DTSTAMP:20260422T214537
CREATED:20260217T145425Z
LAST-MODIFIED:20260217T145425Z
UID:10000729-1774281600-1774288800@whitehavenlibrary.com
SUMMARY:YMCA After School Program
DESCRIPTION:A 10-week after-school program for students in grades 4-8
URL:https://whitehavenlibrary.com/event/ymca-after-school-program/2026-03-23/
LOCATION:White Haven Area Community Library\, 121 Towanda St\, White Haven\, PA\, 18661\, United States
CATEGORIES:Bulletin,Featured
ATTACH;FMTTYPE=image/png:https://whitehavenlibrary.com/wp-content/uploads/2026/02/image.png
END:VEVENT
BEGIN:VEVENT
DTSTART;TZID=America/New_York:20260325T160000
DTEND;TZID=America/New_York:20260325T180000
DTSTAMP:20260422T214537
CREATED:20260217T145425Z
LAST-MODIFIED:20260217T145425Z
UID:10000730-1774454400-1774461600@whitehavenlibrary.com
SUMMARY:YMCA After School Program
DESCRIPTION:A 10-week after-school program for students in grades 4-8
URL:https://whitehavenlibrary.com/event/ymca-after-school-program/2026-03-25/
LOCATION:White Haven Area Community Library\, 121 Towanda St\, White Haven\, PA\, 18661\, United States
CATEGORIES:Bulletin,Featured
ATTACH;FMTTYPE=image/png:https://whitehavenlibrary.com/wp-content/uploads/2026/02/image.png
END:VEVENT
BEGIN:VEVENT
DTSTART;TZID=America/New_York:20260326T063000
DTEND;TZID=America/New_York:20260326T203000
DTSTAMP:20260422T214537
CREATED:20260331T204538Z
LAST-MODIFIED:20260331T204538Z
UID:10000885-1774506600-1774557000@whitehavenlibrary.com
SUMMARY:Lions Club Meeting
DESCRIPTION:
URL:https://whitehavenlibrary.com/event/lions-club-meeting-2/2026-03-26/
LOCATION:White Haven Area Community Library\, 121 Towanda St\, White Haven\, PA\, 18661\, United States
CATEGORIES:Featured
END:VEVENT
BEGIN:VEVENT
DTSTART;TZID=America/New_York:20260326T100000
DTEND;TZID=America/New_York:20260326T120000
DTSTAMP:20260422T214537
CREATED:20220411T165620Z
LAST-MODIFIED:20260220T143607Z
UID:10000754-1774519200-1774526400@whitehavenlibrary.com
SUMMARY:Fiber Arts Club
DESCRIPTION:
URL:https://whitehavenlibrary.com/event/fiber-arts-club/2026-03-26/
LOCATION:White Haven Area Community Library\, 121 Towanda St\, White Haven\, PA\, 18661\, United States
CATEGORIES:Featured
END:VEVENT
BEGIN:VEVENT
DTSTART;TZID=America/New_York:20260326T160000
DTEND;TZID=America/New_York:20260326T180000
DTSTAMP:20260422T214537
CREATED:20260217T145425Z
LAST-MODIFIED:20260217T145425Z
UID:10000731-1774540800-1774548000@whitehavenlibrary.com
SUMMARY:YMCA After School Program
DESCRIPTION:A 10-week after-school program for students in grades 4-8
URL:https://whitehavenlibrary.com/event/ymca-after-school-program/2026-03-26/
LOCATION:White Haven Area Community Library\, 121 Towanda St\, White Haven\, PA\, 18661\, United States
CATEGORIES:Bulletin,Featured
ATTACH;FMTTYPE=image/png:https://whitehavenlibrary.com/wp-content/uploads/2026/02/image.png
END:VEVENT
BEGIN:VEVENT
DTSTART;TZID=America/New_York:20260328T120000
DTEND;TZID=America/New_York:20260328T150000
DTSTAMP:20260422T214537
CREATED:20260220T144134Z
LAST-MODIFIED:20260401T154451Z
UID:10000758-1774699200-1774710000@whitehavenlibrary.com
SUMMARY:Pysansky Egg Painting Workshop
DESCRIPTION:
URL:https://whitehavenlibrary.com/event/pysansky-egg-painting-workshop/
LOCATION:White Haven Area Community Library\, 121 Towanda St\, White Haven\, PA\, 18661\, United States
CATEGORIES:Featured
ATTACH;FMTTYPE=image/jpeg:https://whitehavenlibrary.com/wp-content/uploads/2026/02/Pysansky-Egg-scaled.jpeg
END:VEVENT
BEGIN:VEVENT
DTSTART;TZID=America/New_York:20260330T160000
DTEND;TZID=America/New_York:20260330T180000
DTSTAMP:20260422T214537
CREATED:20260217T145425Z
LAST-MODIFIED:20260217T145425Z
UID:10000732-1774886400-1774893600@whitehavenlibrary.com
SUMMARY:YMCA After School Program
DESCRIPTION:A 10-week after-school program for students in grades 4-8
URL:https://whitehavenlibrary.com/event/ymca-after-school-program/2026-03-30/
LOCATION:White Haven Area Community Library\, 121 Towanda St\, White Haven\, PA\, 18661\, United States
CATEGORIES:Bulletin,Featured
ATTACH;FMTTYPE=image/png:https://whitehavenlibrary.com/wp-content/uploads/2026/02/image.png
END:VEVENT
END:VCALENDAR