BEGIN:VCALENDAR
VERSION:2.0
PRODID:-//White Haven Area Community Library - ECPv6.15.18//NONSGML v1.0//EN
CALSCALE:GREGORIAN
METHOD:PUBLISH
X-ORIGINAL-URL:https://whitehavenlibrary.com
X-WR-CALDESC:Events for White Haven Area Community Library
REFRESH-INTERVAL;VALUE=DURATION:PT1H
X-Robots-Tag:noindex
X-PUBLISHED-TTL:PT1H
BEGIN:VTIMEZONE
TZID:America/New_York
BEGIN:DAYLIGHT
TZOFFSETFROM:-0500
TZOFFSETTO:-0400
TZNAME:EDT
DTSTART:20250309T070000
END:DAYLIGHT
BEGIN:STANDARD
TZOFFSETFROM:-0400
TZOFFSETTO:-0500
TZNAME:EST
DTSTART:20251102T060000
END:STANDARD
BEGIN:DAYLIGHT
TZOFFSETFROM:-0500
TZOFFSETTO:-0400
TZNAME:EDT
DTSTART:20260308T070000
END:DAYLIGHT
BEGIN:STANDARD
TZOFFSETFROM:-0400
TZOFFSETTO:-0500
TZNAME:EST
DTSTART:20261101T060000
END:STANDARD
BEGIN:DAYLIGHT
TZOFFSETFROM:-0500
TZOFFSETTO:-0400
TZNAME:EDT
DTSTART:20270314T070000
END:DAYLIGHT
BEGIN:STANDARD
TZOFFSETFROM:-0400
TZOFFSETTO:-0500
TZNAME:EST
DTSTART:20271107T060000
END:STANDARD
END:VTIMEZONE
BEGIN:VEVENT
DTSTART;TZID=America/New_York:20260204T180000
DTEND;TZID=America/New_York:20260204T200000
DTSTAMP:20260422T233738
CREATED:20260128T181800Z
LAST-MODIFIED:20260128T181800Z
UID:10000705-1770228000-1770235200@whitehavenlibrary.com
SUMMARY:Adult Book Club
DESCRIPTION:
URL:https://whitehavenlibrary.com/event/adult-book-club/
LOCATION:White Haven Area Community Library\, 121 Towanda St\, White Haven\, PA\, 18661\, United States
CATEGORIES:Adult,Featured
END:VEVENT
BEGIN:VEVENT
DTSTART;TZID=America/New_York:20260205T180000
DTEND;TZID=America/New_York:20260205T200000
DTSTAMP:20260422T233738
CREATED:20240606T154004Z
LAST-MODIFIED:20260220T143403Z
UID:10000706-1770314400-1770321600@whitehavenlibrary.com
SUMMARY:Scrabble Club
DESCRIPTION:
URL:https://whitehavenlibrary.com/event/scrabble-club/2026-02-05/
LOCATION:White Haven Area Community Library\, 121 Towanda St\, White Haven\, PA\, 18661\, United States
CATEGORIES:Featured
END:VEVENT
BEGIN:VEVENT
DTSTART;TZID=America/New_York:20260207T101500
DTEND;TZID=America/New_York:20260207T110000
DTSTAMP:20260422T233738
CREATED:20241118T222525Z
LAST-MODIFIED:20260131T170859Z
UID:10000718-1770459300-1770462000@whitehavenlibrary.com
SUMMARY:Tot Time
DESCRIPTION:
URL:https://whitehavenlibrary.com/event/tot-time/2026-02-07/
LOCATION:White Haven Area Community Library\, 121 Towanda St\, White Haven\, PA\, 18661\, United States
CATEGORIES:Children,Featured
END:VEVENT
BEGIN:VEVENT
DTSTART;TZID=America/New_York:20260212T100000
DTEND;TZID=America/New_York:20260212T120000
DTSTAMP:20260422T233738
CREATED:20220411T165620Z
LAST-MODIFIED:20260220T143607Z
UID:10000710-1770890400-1770897600@whitehavenlibrary.com
SUMMARY:Fiber Arts Club
DESCRIPTION:
URL:https://whitehavenlibrary.com/event/fiber-arts-club/2026-02-12/
LOCATION:White Haven Area Community Library\, 121 Towanda St\, White Haven\, PA\, 18661\, United States
CATEGORIES:Featured
END:VEVENT
BEGIN:VEVENT
DTSTART;TZID=America/New_York:20260212T183000
DTEND;TZID=America/New_York:20260212T203000
DTSTAMP:20260422T233738
CREATED:20220711T143757Z
LAST-MODIFIED:20260128T182002Z
UID:10000708-1770921000-1770928200@whitehavenlibrary.com
SUMMARY:Lions Club Meeting
DESCRIPTION:
URL:https://whitehavenlibrary.com/event/lions-club-meeting/2026-02-12/
LOCATION:White Haven Area Community Library\, 121 Towanda St\, White Haven\, PA\, 18661\, United States
CATEGORIES:Featured
END:VEVENT
BEGIN:VEVENT
DTSTART;TZID=America/New_York:20260214T123000
DTEND;TZID=America/New_York:20260214T140000
DTSTAMP:20260422T233738
CREATED:20230204T021054Z
LAST-MODIFIED:20260220T143703Z
UID:10000712-1771072200-1771077600@whitehavenlibrary.com
SUMMARY:LEGO Club
DESCRIPTION:
URL:https://whitehavenlibrary.com/event/lego-club/2026-02-14/
LOCATION:White Haven Area Community Library\, 121 Towanda St\, White Haven\, PA\, 18661\, United States
CATEGORIES:Featured
END:VEVENT
BEGIN:VEVENT
DTSTART;TZID=America/New_York:20260214T123000
DTEND;TZID=America/New_York:20260214T140000
DTSTAMP:20260422T233738
CREATED:20260128T182300Z
LAST-MODIFIED:20260128T182300Z
UID:10000713-1771072200-1771077600@whitehavenlibrary.com
SUMMARY:Big Dill Scavenger Hunt (Ages 7+)
DESCRIPTION:
URL:https://whitehavenlibrary.com/event/big-dill-scavenger-hunt-ages-7/
LOCATION:White Haven Area Community Library\, 121 Towanda St\, White Haven\, PA\, 18661\, United States
CATEGORIES:Featured
END:VEVENT
BEGIN:VEVENT
DTSTART;TZID=America/New_York:20260217T183000
DTEND;TZID=America/New_York:20260217T203000
DTSTAMP:20260422T233738
CREATED:20260128T182329Z
LAST-MODIFIED:20260220T143800Z
UID:10000714-1771353000-1771360200@whitehavenlibrary.com
SUMMARY:Grandparents Raising Grandchildren
DESCRIPTION:
URL:https://whitehavenlibrary.com/event/grandparents-raising-grandchildren-5/
LOCATION:White Haven Area Community Library\, 121 Towanda St\, White Haven\, PA\, 18661\, United States
CATEGORIES:Featured
END:VEVENT
BEGIN:VEVENT
DTSTART;TZID=America/New_York:20260219T130000
DTEND;TZID=America/New_York:20260219T150000
DTSTAMP:20260422T233738
CREATED:20220427T160350Z
LAST-MODIFIED:20260220T143945Z
UID:10000715-1771506000-1771513200@whitehavenlibrary.com
SUMMARY:Garden Club
DESCRIPTION:
URL:https://whitehavenlibrary.com/event/garden-club/2026-02-19/
LOCATION:White Haven Area Community Library\, 121 Towanda St\, White Haven\, PA\, 18661\, United States
CATEGORIES:All Ages,Featured
END:VEVENT
BEGIN:VEVENT
DTSTART;TZID=America/New_York:20260219T180000
DTEND;TZID=America/New_York:20260219T200000
DTSTAMP:20260422T233738
CREATED:20240606T154004Z
LAST-MODIFIED:20260220T143403Z
UID:10000707-1771524000-1771531200@whitehavenlibrary.com
SUMMARY:Scrabble Club
DESCRIPTION:
URL:https://whitehavenlibrary.com/event/scrabble-club/2026-02-19/
LOCATION:White Haven Area Community Library\, 121 Towanda St\, White Haven\, PA\, 18661\, United States
CATEGORIES:Featured
END:VEVENT
BEGIN:VEVENT
DTSTART;TZID=America/New_York:20260226T100000
DTEND;TZID=America/New_York:20260226T120000
DTSTAMP:20260422T233738
CREATED:20220411T165620Z
LAST-MODIFIED:20260220T143607Z
UID:10000711-1772100000-1772107200@whitehavenlibrary.com
SUMMARY:Fiber Arts Club
DESCRIPTION:
URL:https://whitehavenlibrary.com/event/fiber-arts-club/2026-02-26/
LOCATION:White Haven Area Community Library\, 121 Towanda St\, White Haven\, PA\, 18661\, United States
CATEGORIES:Featured
END:VEVENT
BEGIN:VEVENT
DTSTART;TZID=America/New_York:20260226T183000
DTEND;TZID=America/New_York:20260226T203000
DTSTAMP:20260422T233738
CREATED:20220711T143757Z
LAST-MODIFIED:20260128T182002Z
UID:10000709-1772130600-1772137800@whitehavenlibrary.com
SUMMARY:Lions Club Meeting
DESCRIPTION:
URL:https://whitehavenlibrary.com/event/lions-club-meeting/2026-02-26/
LOCATION:White Haven Area Community Library\, 121 Towanda St\, White Haven\, PA\, 18661\, United States
CATEGORIES:Featured
END:VEVENT
BEGIN:VEVENT
DTSTART;TZID=America/New_York:20260228T123000
DTEND;TZID=America/New_York:20260228T140000
DTSTAMP:20260422T233738
CREATED:20260128T182440Z
LAST-MODIFIED:20260128T182440Z
UID:10000716-1772281800-1772287200@whitehavenlibrary.com
SUMMARY:Children's Event
DESCRIPTION:
URL:https://whitehavenlibrary.com/event/childrens-event/
LOCATION:White Haven Area Community Library\, 121 Towanda St\, White Haven\, PA\, 18661\, United States
CATEGORIES:Featured
END:VEVENT
END:VCALENDAR