BEGIN:VCALENDAR
VERSION:2.0
PRODID:-//White Haven Area Community Library - ECPv6.15.18//NONSGML v1.0//EN
CALSCALE:GREGORIAN
METHOD:PUBLISH
X-WR-CALNAME:White Haven Area Community Library
X-ORIGINAL-URL:https://whitehavenlibrary.com
X-WR-CALDESC:Events for White Haven Area Community Library
REFRESH-INTERVAL;VALUE=DURATION:PT1H
X-Robots-Tag:noindex
X-PUBLISHED-TTL:PT1H
BEGIN:VTIMEZONE
TZID:America/New_York
BEGIN:DAYLIGHT
TZOFFSETFROM:-0500
TZOFFSETTO:-0400
TZNAME:EDT
DTSTART:20250309T070000
END:DAYLIGHT
BEGIN:STANDARD
TZOFFSETFROM:-0400
TZOFFSETTO:-0500
TZNAME:EST
DTSTART:20251102T060000
END:STANDARD
BEGIN:DAYLIGHT
TZOFFSETFROM:-0500
TZOFFSETTO:-0400
TZNAME:EDT
DTSTART:20260308T070000
END:DAYLIGHT
BEGIN:STANDARD
TZOFFSETFROM:-0400
TZOFFSETTO:-0500
TZNAME:EST
DTSTART:20261101T060000
END:STANDARD
BEGIN:DAYLIGHT
TZOFFSETFROM:-0500
TZOFFSETTO:-0400
TZNAME:EDT
DTSTART:20270314T070000
END:DAYLIGHT
BEGIN:STANDARD
TZOFFSETFROM:-0400
TZOFFSETTO:-0500
TZNAME:EST
DTSTART:20271107T060000
END:STANDARD
END:VTIMEZONE
BEGIN:VEVENT
DTSTART;TZID=America/New_York:20260103T100000
DTEND;TZID=America/New_York:20260103T140000
DTSTAMP:20260423T012901
CREATED:20251230T192024Z
LAST-MODIFIED:20251230T192024Z
UID:10000701-1767434400-1767448800@whitehavenlibrary.com
SUMMARY:Library re-opens after holiday break
DESCRIPTION:
URL:https://whitehavenlibrary.com/event/library-re-opens-after-holiday-break/
LOCATION:White Haven Area Community Library\, 121 Towanda St\, White Haven\, PA\, 18661\, United States
CATEGORIES:Featured
END:VEVENT
BEGIN:VEVENT
DTSTART;TZID=America/New_York:20260107T183000
DTEND;TZID=America/New_York:20260107T203000
DTSTAMP:20260423T012901
CREATED:20241118T221633Z
LAST-MODIFIED:20251230T191111Z
UID:10000694-1767810600-1767817800@whitehavenlibrary.com
SUMMARY:Book Club
DESCRIPTION:Book to be discussed…The Ghostwriter by Julie Clark
URL:https://whitehavenlibrary.com/event/book-club-3/2026-01-07/
LOCATION:White Haven Area Community Library\, 121 Towanda St\, White Haven\, PA\, 18661\, United States
CATEGORIES:Featured
END:VEVENT
BEGIN:VEVENT
DTSTART;TZID=America/New_York:20260108T100000
DTEND;TZID=America/New_York:20260108T120000
DTSTAMP:20260423T012901
CREATED:20220411T165620Z
LAST-MODIFIED:20260220T143607Z
UID:10000702-1767866400-1767873600@whitehavenlibrary.com
SUMMARY:Fiber Arts Club
DESCRIPTION:
URL:https://whitehavenlibrary.com/event/fiber-arts-club/2026-01-08/
LOCATION:White Haven Area Community Library\, 121 Towanda St\, White Haven\, PA\, 18661\, United States
CATEGORIES:Featured
END:VEVENT
BEGIN:VEVENT
DTSTART;TZID=America/New_York:20260110T120000
DTEND;TZID=America/New_York:20260110T140000
DTSTAMP:20260423T012901
CREATED:20230204T021054Z
LAST-MODIFIED:20260220T143703Z
UID:10000697-1768046400-1768053600@whitehavenlibrary.com
SUMMARY:LEGO Club
DESCRIPTION:
URL:https://whitehavenlibrary.com/event/lego-club/2026-01-10/
LOCATION:White Haven Area Community Library\, 121 Towanda St\, White Haven\, PA\, 18661\, United States
CATEGORIES:Featured
END:VEVENT
BEGIN:VEVENT
DTSTART;TZID=America/New_York:20260115T180000
DTEND;TZID=America/New_York:20260115T200000
DTSTAMP:20260423T012901
CREATED:20240606T154004Z
LAST-MODIFIED:20260220T143403Z
UID:10000704-1768500000-1768507200@whitehavenlibrary.com
SUMMARY:Scrabble Club
DESCRIPTION:
URL:https://whitehavenlibrary.com/event/scrabble-club/2026-01-15/
LOCATION:White Haven Area Community Library\, 121 Towanda St\, White Haven\, PA\, 18661\, United States
CATEGORIES:Featured
END:VEVENT
BEGIN:VEVENT
DTSTART;TZID=America/New_York:20260120T183000
DTEND;TZID=America/New_York:20260120T200000
DTSTAMP:20260423T012901
CREATED:20251230T191850Z
LAST-MODIFIED:20260301T211057Z
UID:10000692-1768933800-1768939200@whitehavenlibrary.com
SUMMARY:Grandparents Raising Grandchildren
DESCRIPTION:
URL:https://whitehavenlibrary.com/event/grandparents-raising-grandchildren-4/
LOCATION:St. Patrick’s Parish Center
CATEGORIES:Featured
END:VEVENT
BEGIN:VEVENT
DTSTART;TZID=America/New_York:20260122T100000
DTEND;TZID=America/New_York:20260122T120000
DTSTAMP:20260423T012901
CREATED:20220411T165620Z
LAST-MODIFIED:20260220T143607Z
UID:10000703-1769076000-1769083200@whitehavenlibrary.com
SUMMARY:Fiber Arts Club
DESCRIPTION:
URL:https://whitehavenlibrary.com/event/fiber-arts-club/2026-01-22/
LOCATION:White Haven Area Community Library\, 121 Towanda St\, White Haven\, PA\, 18661\, United States
CATEGORIES:Featured
END:VEVENT
BEGIN:VEVENT
DTSTART;TZID=America/New_York:20260124T120000
DTEND;TZID=America/New_York:20260124T140000
DTSTAMP:20260423T012901
CREATED:20251230T191722Z
LAST-MODIFIED:20251230T191722Z
UID:10000700-1769256000-1769263200@whitehavenlibrary.com
SUMMARY:Children's Activities
DESCRIPTION:
URL:https://whitehavenlibrary.com/event/childrens-activities/
LOCATION:White Haven Area Community Library\, 121 Towanda St\, White Haven\, PA\, 18661\, United States
CATEGORIES:Featured
END:VEVENT
END:VCALENDAR