BEGIN:VCALENDAR
VERSION:2.0
PRODID:-//White Haven Area Community Library - ECPv6.15.18//NONSGML v1.0//EN
CALSCALE:GREGORIAN
METHOD:PUBLISH
X-ORIGINAL-URL:https://whitehavenlibrary.com
X-WR-CALDESC:Events for White Haven Area Community Library
REFRESH-INTERVAL;VALUE=DURATION:PT1H
X-Robots-Tag:noindex
X-PUBLISHED-TTL:PT1H
BEGIN:VTIMEZONE
TZID:America/New_York
BEGIN:DAYLIGHT
TZOFFSETFROM:-0500
TZOFFSETTO:-0400
TZNAME:EDT
DTSTART:20230312T070000
END:DAYLIGHT
BEGIN:STANDARD
TZOFFSETFROM:-0400
TZOFFSETTO:-0500
TZNAME:EST
DTSTART:20231105T060000
END:STANDARD
BEGIN:DAYLIGHT
TZOFFSETFROM:-0500
TZOFFSETTO:-0400
TZNAME:EDT
DTSTART:20240310T070000
END:DAYLIGHT
BEGIN:STANDARD
TZOFFSETFROM:-0400
TZOFFSETTO:-0500
TZNAME:EST
DTSTART:20241103T060000
END:STANDARD
BEGIN:DAYLIGHT
TZOFFSETFROM:-0500
TZOFFSETTO:-0400
TZNAME:EDT
DTSTART:20250309T070000
END:DAYLIGHT
BEGIN:STANDARD
TZOFFSETFROM:-0400
TZOFFSETTO:-0500
TZNAME:EST
DTSTART:20251102T060000
END:STANDARD
BEGIN:DAYLIGHT
TZOFFSETFROM:-0500
TZOFFSETTO:-0400
TZNAME:EDT
DTSTART:20260308T070000
END:DAYLIGHT
BEGIN:STANDARD
TZOFFSETFROM:-0400
TZOFFSETTO:-0500
TZNAME:EST
DTSTART:20261101T060000
END:STANDARD
BEGIN:DAYLIGHT
TZOFFSETFROM:-0500
TZOFFSETTO:-0400
TZNAME:EDT
DTSTART:20270314T070000
END:DAYLIGHT
BEGIN:STANDARD
TZOFFSETFROM:-0400
TZOFFSETTO:-0500
TZNAME:EST
DTSTART:20271107T060000
END:STANDARD
END:VTIMEZONE
BEGIN:VTIMEZONE
TZID:UTC
BEGIN:STANDARD
TZOFFSETFROM:+0000
TZOFFSETTO:+0000
TZNAME:UTC
DTSTART:20210101T000000
END:STANDARD
END:VTIMEZONE
BEGIN:VEVENT
DTSTART;TZID=America/New_York:20260421T180000
DTEND;TZID=America/New_York:20260421T190000
DTSTAMP:20260423T052858
CREATED:20260315T154959Z
LAST-MODIFIED:20260418T132145Z
UID:10000788-1776794400-1776798000@whitehavenlibrary.com
SUMMARY:Tot Time with Miss Vicky
DESCRIPTION:
URL:https://whitehavenlibrary.com/event/tot-time-with-miss-vicky/
LOCATION:White Haven Area Community Library\, 121 Towanda St\, White Haven\, PA\, 18661\, United States
CATEGORIES:Children
ATTACH;FMTTYPE=image/png:https://whitehavenlibrary.com/wp-content/uploads/2026/03/Tot-Time-Earth-Day.png
END:VEVENT
BEGIN:VEVENT
DTSTART;TZID=America/New_York:20260411T120000
DTEND;TZID=America/New_York:20260411T140000
DTSTAMP:20260423T052858
CREATED:20260323T204304Z
LAST-MODIFIED:20260323T204304Z
UID:10000790-1775908800-1775916000@whitehavenlibrary.com
SUMMARY:Kindness Rocks! Rock Painting Project for ages 7 & up
DESCRIPTION:
URL:https://whitehavenlibrary.com/event/kindness-rocks-rock-painting-project-for-ages-7-up/
LOCATION:White Haven Area Community Library\, 121 Towanda St\, White Haven\, PA\, 18661\, United States
CATEGORIES:Children
END:VEVENT
BEGIN:VEVENT
DTSTART;TZID=America/New_York:20260207T101500
DTEND;TZID=America/New_York:20260207T110000
DTSTAMP:20260423T052858
CREATED:20241118T222525Z
LAST-MODIFIED:20260131T170859Z
UID:10000718-1770459300-1770462000@whitehavenlibrary.com
SUMMARY:Tot Time
DESCRIPTION:
URL:https://whitehavenlibrary.com/event/tot-time/2026-02-07/
LOCATION:White Haven Area Community Library\, 121 Towanda St\, White Haven\, PA\, 18661\, United States
CATEGORIES:Children,Featured
END:VEVENT
BEGIN:VEVENT
DTSTART;TZID=America/New_York:20250517T120000
DTEND;TZID=America/New_York:20250517T140000
DTSTAMP:20260423T052858
CREATED:20250506T145544Z
LAST-MODIFIED:20250506T145544Z
UID:10000588-1747483200-1747490400@whitehavenlibrary.com
SUMMARY:Kids Club Beach Party
DESCRIPTION:
URL:https://whitehavenlibrary.com/event/kids-club-beach-party/
LOCATION:White Haven Area Community Library\, 121 Towanda St\, White Haven\, PA\, 18661\, United States
CATEGORIES:Children,Featured
END:VEVENT
BEGIN:VEVENT
DTSTART;TZID=America/New_York:20250426T120000
DTEND;TZID=America/New_York:20250426T133000
DTSTAMP:20260423T052858
CREATED:20250210T165319Z
LAST-MODIFIED:20250401T140537Z
UID:10000577-1745668800-1745674200@whitehavenlibrary.com
SUMMARY:Lego/Pokémon Club
DESCRIPTION:
URL:https://whitehavenlibrary.com/event/lego-pokemon-club/2025-04-26/
LOCATION:White Haven Area Community Library\, 121 Towanda St\, White Haven\, PA\, 18661\, United States
CATEGORIES:Children,Featured
END:VEVENT
BEGIN:VEVENT
DTSTART;TZID=America/New_York:20250308T120000
DTEND;TZID=America/New_York:20250308T133000
DTSTAMP:20260423T052858
CREATED:20250303T160751Z
LAST-MODIFIED:20250303T160751Z
UID:10000560-1741435200-1741440600@whitehavenlibrary.com
SUMMARY:Dr. Seuss Scavenger Hunt
DESCRIPTION:
URL:https://whitehavenlibrary.com/event/dr-seuss-scavenger-hunt/
LOCATION:White Haven Area Community Library\, 121 Towanda St\, White Haven\, PA\, 18661\, United States
CATEGORIES:All Ages,Children,Featured
END:VEVENT
BEGIN:VEVENT
DTSTART;TZID=America/New_York:20241214T120000
DTEND;TZID=America/New_York:20241214T140000
DTSTAMP:20260423T052858
CREATED:20241118T222344Z
LAST-MODIFIED:20241118T222344Z
UID:10000522-1734177600-1734184800@whitehavenlibrary.com
SUMMARY:Kids Christmas Party
DESCRIPTION:
URL:https://whitehavenlibrary.com/event/kids-christmas-party/
LOCATION:White Haven Area Community Library\, 121 Towanda St\, White Haven\, PA\, 18661\, United States
CATEGORIES:Children,Featured
END:VEVENT
BEGIN:VEVENT
DTSTART;TZID=America/New_York:20240416T120000
DTEND;TZID=America/New_York:20240416T140000
DTSTAMP:20260423T052858
CREATED:20240403T165016Z
LAST-MODIFIED:20240403T165017Z
UID:10000371-1713268800-1713276000@whitehavenlibrary.com
SUMMARY:Kids Game Day
DESCRIPTION:
URL:https://whitehavenlibrary.com/event/kids-game-day/
LOCATION:White Haven Area Community Library\, 121 Towanda St\, White Haven\, PA\, 18661\, United States
CATEGORIES:Children,Featured
END:VEVENT
BEGIN:VEVENT
DTSTART;TZID=America/New_York:20240405T063000
DTEND;TZID=America/New_York:20240405T203000
DTSTAMP:20260423T052858
CREATED:20221129T204423Z
LAST-MODIFIED:20240403T184404Z
UID:10000368-1712298600-1712349000@whitehavenlibrary.com
SUMMARY:Kids Movie Night
DESCRIPTION:
URL:https://whitehavenlibrary.com/event/kids-movie-night/2024-04-05/
LOCATION:White Haven Area Community Library\, 121 Towanda St\, White Haven\, PA\, 18661\, United States
CATEGORIES:Children,Featured
END:VEVENT
BEGIN:VEVENT
DTSTART;TZID=America/New_York:20240203T101500
DTEND;TZID=America/New_York:20240203T111500
DTSTAMP:20260423T052858
CREATED:20221010T202513Z
LAST-MODIFIED:20240131T162938Z
UID:10000334-1706955300-1706958900@whitehavenlibrary.com
SUMMARY:Tot Story Time
DESCRIPTION:
URL:https://whitehavenlibrary.com/event/tot-story-time/2024-02-03/
LOCATION:White Haven Area Community Library\, 121 Towanda St\, White Haven\, PA\, 18661\, United States
CATEGORIES:Children,Featured
END:VEVENT
BEGIN:VEVENT
DTSTART;TZID=America/New_York:20240110T180000
DTEND;TZID=America/New_York:20240110T200000
DTSTAMP:20260423T052858
CREATED:20231218T202758Z
LAST-MODIFIED:20231218T202758Z
UID:10000292-1704909600-1704916800@whitehavenlibrary.com
SUMMARY:Kids LEGO Night
DESCRIPTION:
URL:https://whitehavenlibrary.com/event/kids-lego-night/
LOCATION:White Haven Area Community Library\, 121 Towanda St\, White Haven\, PA\, 18661\, United States
CATEGORIES:Children,Featured
END:VEVENT
BEGIN:VEVENT
DTSTART;TZID=UTC:20221012T181500
DTEND;TZID=UTC:20221012T191500
DTSTAMP:20260423T052858
CREATED:20221010T202114Z
LAST-MODIFIED:20221010T202114Z
UID:10000097-1665598500-1665602100@whitehavenlibrary.com
SUMMARY:Kids Halloween Bingo
DESCRIPTION:
URL:https://whitehavenlibrary.com/event/kids-halloween-bingo/
LOCATION:White Haven Area Community Library\, 121 Towanda St\, White Haven\, PA\, 18661\, United States
CATEGORIES:Children,Featured
END:VEVENT
END:VCALENDAR