BEGIN:VCALENDAR
VERSION:2.0
PRODID:-//White Haven Area Community Library - ECPv6.15.18//NONSGML v1.0//EN
CALSCALE:GREGORIAN
METHOD:PUBLISH
X-ORIGINAL-URL:https://whitehavenlibrary.com
X-WR-CALDESC:Events for White Haven Area Community Library
REFRESH-INTERVAL;VALUE=DURATION:PT1H
X-Robots-Tag:noindex
X-PUBLISHED-TTL:PT1H
BEGIN:VTIMEZONE
TZID:America/New_York
BEGIN:DAYLIGHT
TZOFFSETFROM:-0500
TZOFFSETTO:-0400
TZNAME:EDT
DTSTART:20220313T070000
END:DAYLIGHT
BEGIN:STANDARD
TZOFFSETFROM:-0400
TZOFFSETTO:-0500
TZNAME:EST
DTSTART:20221106T060000
END:STANDARD
BEGIN:DAYLIGHT
TZOFFSETFROM:-0500
TZOFFSETTO:-0400
TZNAME:EDT
DTSTART:20230312T070000
END:DAYLIGHT
BEGIN:STANDARD
TZOFFSETFROM:-0400
TZOFFSETTO:-0500
TZNAME:EST
DTSTART:20231105T060000
END:STANDARD
BEGIN:DAYLIGHT
TZOFFSETFROM:-0500
TZOFFSETTO:-0400
TZNAME:EDT
DTSTART:20240310T070000
END:DAYLIGHT
BEGIN:STANDARD
TZOFFSETFROM:-0400
TZOFFSETTO:-0500
TZNAME:EST
DTSTART:20241103T060000
END:STANDARD
BEGIN:DAYLIGHT
TZOFFSETFROM:-0500
TZOFFSETTO:-0400
TZNAME:EDT
DTSTART:20250309T070000
END:DAYLIGHT
BEGIN:STANDARD
TZOFFSETFROM:-0400
TZOFFSETTO:-0500
TZNAME:EST
DTSTART:20251102T060000
END:STANDARD
BEGIN:DAYLIGHT
TZOFFSETFROM:-0500
TZOFFSETTO:-0400
TZNAME:EDT
DTSTART:20260308T070000
END:DAYLIGHT
BEGIN:STANDARD
TZOFFSETFROM:-0400
TZOFFSETTO:-0500
TZNAME:EST
DTSTART:20261101T060000
END:STANDARD
BEGIN:DAYLIGHT
TZOFFSETFROM:-0500
TZOFFSETTO:-0400
TZNAME:EDT
DTSTART:20270314T070000
END:DAYLIGHT
BEGIN:STANDARD
TZOFFSETFROM:-0400
TZOFFSETTO:-0500
TZNAME:EST
DTSTART:20271107T060000
END:STANDARD
END:VTIMEZONE
BEGIN:VEVENT
DTSTART;TZID=America/New_York:20260422T160000
DTEND;TZID=America/New_York:20260422T180000
DTSTAMP:20260423T040611
CREATED:20260217T145425Z
LAST-MODIFIED:20260217T145425Z
UID:10000742-1776873600-1776880800@whitehavenlibrary.com
SUMMARY:YMCA After School Program
DESCRIPTION:A 10-week after-school program for students in grades 4-8
URL:https://whitehavenlibrary.com/event/ymca-after-school-program/2026-04-22/
LOCATION:White Haven Area Community Library\, 121 Towanda St\, White Haven\, PA\, 18661\, United States
CATEGORIES:Bulletin,Featured
ATTACH;FMTTYPE=image/png:https://whitehavenlibrary.com/wp-content/uploads/2026/02/image.png
END:VEVENT
BEGIN:VEVENT
DTSTART;VALUE=DATE:20260301
DTEND;VALUE=DATE:20260401
DTSTAMP:20260423T040611
CREATED:20260227T181057Z
LAST-MODIFIED:20260227T181057Z
UID:10000759-1772323200-1775001599@whitehavenlibrary.com
SUMMARY:March Reading Incentive Program
DESCRIPTION:
URL:https://whitehavenlibrary.com/event/march-reading-incentive-program/
LOCATION:White Haven Area Community Library\, 121 Towanda St\, White Haven\, PA\, 18661\, United States
CATEGORIES:Bulletin,Featured
ATTACH;FMTTYPE=image/png:https://whitehavenlibrary.com/wp-content/uploads/2026/02/The-White-Haven-Area-Community-Library-is-excited-to-encourage-children-to-read-this-February-with-a-special-cozy-reading-incentive-program-3.png
END:VEVENT
BEGIN:VEVENT
DTSTART;TZID=America/New_York:20251212T183000
DTEND;TZID=America/New_York:20251212T203000
DTSTAMP:20260423T040611
CREATED:20251117T160513Z
LAST-MODIFIED:20251117T160513Z
UID:10000693-1765564200-1765571400@whitehavenlibrary.com
SUMMARY:Holiday Open House
DESCRIPTION:
URL:https://whitehavenlibrary.com/event/holiday-open-house/
LOCATION:White Haven Area Community Library\, 121 Towanda St\, White Haven\, PA\, 18661\, United States
CATEGORIES:Bulletin,Featured
ATTACH;FMTTYPE=image/jpeg:https://whitehavenlibrary.com/wp-content/uploads/2025/11/Holiday-Open-House.jpg
END:VEVENT
BEGIN:VEVENT
DTSTART;TZID=America/New_York:20251206T100000
DTEND;TZID=America/New_York:20251206T150000
DTSTAMP:20260423T040611
CREATED:20251110T131250Z
LAST-MODIFIED:20251110T131303Z
UID:10000691-1765015200-1765033200@whitehavenlibrary.com
SUMMARY:Holiday Quilt and Craft Show
DESCRIPTION:
URL:https://whitehavenlibrary.com/event/holiday-quilt-and-craft-show-2025/
LOCATION:White Haven Area Community Library\, 121 Towanda St\, White Haven\, PA\, 18661\, United States
CATEGORIES:Bulletin,Featured
ATTACH;FMTTYPE=image/jpeg:https://whitehavenlibrary.com/wp-content/uploads/2025/11/QC-Poster-2025.jpg
END:VEVENT
BEGIN:VEVENT
DTSTART;TZID=America/New_York:20251018T190000
DTEND;TZID=America/New_York:20251018T200000
DTSTAMP:20260423T040611
CREATED:20250925T203350Z
LAST-MODIFIED:20250925T203350Z
UID:10000680-1760814000-1760817600@whitehavenlibrary.com
SUMMARY:An Evening of Edgar Allan Poe Readings with Bob Maso
DESCRIPTION:
URL:https://whitehavenlibrary.com/event/an-evening-of-edgar-allan-poe-readings-with-bob-maso/
LOCATION:White Haven Area Community Library\, 121 Towanda St\, White Haven\, PA\, 18661\, United States
CATEGORIES:Bulletin,Featured
ATTACH;FMTTYPE=image/jpeg:https://whitehavenlibrary.com/wp-content/uploads/2025/09/poe-flyer.jpg
END:VEVENT
BEGIN:VEVENT
DTSTART;TZID=America/New_York:20251003T190000
DTEND;TZID=America/New_York:20251003T220000
DTSTAMP:20260423T040611
CREATED:20250918T154326Z
LAST-MODIFIED:20250918T154326Z
UID:10000678-1759518000-1759528800@whitehavenlibrary.com
SUMMARY:Gracie Jane Sinclair Concert
DESCRIPTION:
URL:https://whitehavenlibrary.com/event/gracie-jane-sinclair-concert/
LOCATION:Penn Lake Community Center
CATEGORIES:Bulletin,Featured
ATTACH;FMTTYPE=image/jpeg:https://whitehavenlibrary.com/wp-content/uploads/2025/09/GracieJane2025.jpg
END:VEVENT
BEGIN:VEVENT
DTSTART;TZID=America/New_York:20250607T110000
DTEND;TZID=America/New_York:20250607T160000
DTSTAMP:20260423T040611
CREATED:20250506T150140Z
LAST-MODIFIED:20250506T150140Z
UID:10000593-1749294000-1749312000@whitehavenlibrary.com
SUMMARY:2025 White Haven Trout Festival
DESCRIPTION:
URL:https://whitehavenlibrary.com/event/2025-white-haven-trout-festival/
LOCATION:White Haven Area Community Library\, 121 Towanda St\, White Haven\, PA\, 18661\, United States
CATEGORIES:All Ages,Bulletin,Featured
ATTACH;FMTTYPE=image/jpeg:https://whitehavenlibrary.com/wp-content/uploads/2025/05/Trout-Poster.jpg
END:VEVENT
BEGIN:VEVENT
DTSTART;TZID=America/New_York:20250318T183000
DTEND;TZID=America/New_York:20250318T203000
DTSTAMP:20260423T040611
CREATED:20250303T161526Z
LAST-MODIFIED:20250303T161526Z
UID:10000566-1742322600-1742329800@whitehavenlibrary.com
SUMMARY:Grandparents Raising Grandchildren
DESCRIPTION:
URL:https://whitehavenlibrary.com/event/grandparents-raising-grandchildren-2/
LOCATION:White Haven Area Community Library\, 121 Towanda St\, White Haven\, PA\, 18661\, United States
CATEGORIES:Bulletin,Featured
ATTACH;FMTTYPE=image/jpeg:https://whitehavenlibrary.com/wp-content/uploads/2025/03/Grandparents-Raising-Grandchildren-Bulletin-v1.jpg
END:VEVENT
BEGIN:VEVENT
DTSTART;TZID=America/New_York:20250316T150000
DTEND;TZID=America/New_York:20250316T170000
DTSTAMP:20260423T040611
CREATED:20250210T170656Z
LAST-MODIFIED:20250210T170656Z
UID:10000550-1742137200-1742144400@whitehavenlibrary.com
SUMMARY:Concert @ The Engine House
DESCRIPTION:
URL:https://whitehavenlibrary.com/event/concert-the-engine-house/
LOCATION:White Haven Area Community Library\, 121 Towanda St\, White Haven\, PA\, 18661\, United States
CATEGORIES:Bulletin,Featured
ATTACH;FMTTYPE=image/jpeg:https://whitehavenlibrary.com/wp-content/uploads/2025/02/Concert-Bulletin.jpg
END:VEVENT
BEGIN:VEVENT
DTSTART;TZID=America/New_York:20250225T183000
DTEND;TZID=America/New_York:20250225T200000
DTSTAMP:20260423T040611
CREATED:20250210T170300Z
LAST-MODIFIED:20250210T170300Z
UID:10000549-1740508200-1740513600@whitehavenlibrary.com
SUMMARY:Bird Flu Seminar
DESCRIPTION:
URL:https://whitehavenlibrary.com/event/bird-flu-seminar/
LOCATION:White Haven Area Community Library\, 121 Towanda St\, White Haven\, PA\, 18661\, United States
CATEGORIES:Bulletin,Featured
ATTACH;FMTTYPE=image/png:https://whitehavenlibrary.com/wp-content/uploads/2025/02/Bird-Flu-Bulletin-v1.png
END:VEVENT
BEGIN:VEVENT
DTSTART;TZID=America/New_York:20241207T100000
DTEND;TZID=America/New_York:20241207T150000
DTSTAMP:20260423T040611
CREATED:20241118T223347Z
LAST-MODIFIED:20241118T223347Z
UID:10000526-1733565600-1733583600@whitehavenlibrary.com
SUMMARY:Holiday Quilts and Crafts Show
DESCRIPTION:
URL:https://whitehavenlibrary.com/event/holiday-quilts-and-crafts-show/
LOCATION:White Haven Area Community Library\, 121 Towanda St\, White Haven\, PA\, 18661\, United States
CATEGORIES:Bulletin,Featured
ATTACH;FMTTYPE=image/jpeg:https://whitehavenlibrary.com/wp-content/uploads/2024/11/2024-Holiday-Quilts-and-Crafts-Show.jpg
END:VEVENT
BEGIN:VEVENT
DTSTART;TZID=America/New_York:20241102T133000
DTEND;TZID=America/New_York:20241102T150000
DTSTAMP:20260423T040611
CREATED:20240927T151942Z
LAST-MODIFIED:20241018T144731Z
UID:10000513-1730554200-1730559600@whitehavenlibrary.com
SUMMARY:Kids Halloween Party (Ages 6-15)
DESCRIPTION:
URL:https://whitehavenlibrary.com/event/kids-halloween-party-ages-6-15/
LOCATION:White Haven Area Community Library\, 121 Towanda St\, White Haven\, PA\, 18661\, United States
CATEGORIES:Bulletin,Featured
ATTACH;FMTTYPE=image/jpeg:https://whitehavenlibrary.com/wp-content/uploads/2024/09/Boo-Bash-November.jpg
END:VEVENT
BEGIN:VEVENT
DTSTART;TZID=America/New_York:20241012T100000
DTEND;TZID=America/New_York:20241012T140000
DTSTAMP:20260423T040611
CREATED:20240927T151455Z
LAST-MODIFIED:20241001T154710Z
UID:10000512-1728727200-1728741600@whitehavenlibrary.com
SUMMARY:Library Book Sale
DESCRIPTION:
URL:https://whitehavenlibrary.com/event/library-book-sale/2024-10-12/
LOCATION:White Haven Area Community Library\, 121 Towanda St\, White Haven\, PA\, 18661\, United States
CATEGORIES:Bulletin,Featured
ATTACH;FMTTYPE=image/jpeg:https://whitehavenlibrary.com/wp-content/uploads/2024/09/Book-Sale.jpg
END:VEVENT
BEGIN:VEVENT
DTSTART;TZID=America/New_York:20240925T180000
DTEND;TZID=America/New_York:20240925T200000
DTSTAMP:20260423T040611
CREATED:20240606T155653Z
LAST-MODIFIED:20241018T145156Z
UID:10000488-1727287200-1727294400@whitehavenlibrary.com
SUMMARY:Arts & Crafts Hang Out
DESCRIPTION:
URL:https://whitehavenlibrary.com/event/craft-club-night/2024-09-25/
LOCATION:White Haven Area Community Library\, 121 Towanda St\, White Haven\, PA\, 18661\, United States
CATEGORIES:Bulletin,Featured
ATTACH;FMTTYPE=image/jpeg:https://whitehavenlibrary.com/wp-content/uploads/2024/06/Craft-Club-Poster.jpg
END:VEVENT
BEGIN:VEVENT
DTSTART;TZID=America/New_York:20240817T120000
DTEND;TZID=America/New_York:20240817T133000
DTSTAMP:20260423T040611
CREATED:20240719T172144Z
LAST-MODIFIED:20240719T172144Z
UID:10000487-1723896000-1723901400@whitehavenlibrary.com
SUMMARY:Back to School Bingo
DESCRIPTION:
URL:https://whitehavenlibrary.com/event/back-to-school-bingo/
LOCATION:White Haven Area Community Library\, 121 Towanda St\, White Haven\, PA\, 18661\, United States
CATEGORIES:Bulletin,Featured
ATTACH;FMTTYPE=image/jpeg:https://whitehavenlibrary.com/wp-content/uploads/2024/07/WHACL-Back-to-School-Bingo-Poster.jpg
END:VEVENT
BEGIN:VEVENT
DTSTART;TZID=America/New_York:20240816T180000
DTEND;TZID=America/New_York:20240816T210000
DTSTAMP:20260423T040611
CREATED:20240719T171530Z
LAST-MODIFIED:20240719T171530Z
UID:10000484-1723831200-1723842000@whitehavenlibrary.com
SUMMARY:Gracie Jane Sinclair Trio Concert
DESCRIPTION:
URL:https://whitehavenlibrary.com/event/gracie-jane-sinclair-trio-concert/
LOCATION:White Haven Area Community Library\, 121 Towanda St\, White Haven\, PA\, 18661\, United States
CATEGORIES:Bulletin,Featured
ATTACH;FMTTYPE=image/jpeg:https://whitehavenlibrary.com/wp-content/uploads/2024/07/WHACL-Gracie-Jane-Sinclair-Poster.jpg
END:VEVENT
BEGIN:VEVENT
DTSTART;TZID=America/New_York:20240730T180000
DTEND;TZID=America/New_York:20240730T193000
DTSTAMP:20260423T040611
CREATED:20240719T170817Z
LAST-MODIFIED:20240719T170856Z
UID:10000476-1722362400-1722367800@whitehavenlibrary.com
SUMMARY:St. Ann's Band Free Concert
DESCRIPTION:
URL:https://whitehavenlibrary.com/event/st-anns-band-free-concert/
LOCATION:Rail Yard Park\, 121 Towanda St\, White Haven\, PA\, 18661\, United States
CATEGORIES:Bulletin,Featured
ATTACH;FMTTYPE=image/jpeg:https://whitehavenlibrary.com/wp-content/uploads/2024/07/WHACL-St-Anns-Band-Poster.jpg
END:VEVENT
BEGIN:VEVENT
DTSTART;TZID=America/New_York:20240628T100000
DTEND;TZID=America/New_York:20240628T140000
DTSTAMP:20260423T040611
CREATED:20240606T163308Z
LAST-MODIFIED:20240606T163655Z
UID:10000466-1719568800-1719583200@whitehavenlibrary.com
SUMMARY:Food & Fun Program
DESCRIPTION:
URL:https://whitehavenlibrary.com/event/food-fun/2024-06-28/
LOCATION:White Haven Area Community Library\, 121 Towanda St\, White Haven\, PA\, 18661\, United States
CATEGORIES:Bulletin,Featured
ATTACH;FMTTYPE=image/jpeg:https://whitehavenlibrary.com/wp-content/uploads/2024/06/Food-n-Fun-Poster.jpg
END:VEVENT
BEGIN:VEVENT
DTSTART;TZID=America/New_York:20240601T120000
DTEND;TZID=America/New_York:20240601T160000
DTSTAMP:20260423T040611
CREATED:20240508T193937Z
LAST-MODIFIED:20240508T193937Z
UID:10000389-1717243200-1717257600@whitehavenlibrary.com
SUMMARY:Fish Fry Dinner
DESCRIPTION:
URL:https://whitehavenlibrary.com/event/fish-fry-dinner/
LOCATION:White Haven Area Community Library\, 121 Towanda St\, White Haven\, PA\, 18661\, United States
CATEGORIES:Bulletin,Featured
ATTACH;FMTTYPE=image/jpeg:https://whitehavenlibrary.com/wp-content/uploads/2024/05/Trout-Festival-Fish-Fry-Poster-2024.jpg
END:VEVENT
BEGIN:VEVENT
DTSTART;TZID=America/New_York:20240601T110000
DTEND;TZID=America/New_York:20240601T160000
DTSTAMP:20260423T040611
CREATED:20240307T150558Z
LAST-MODIFIED:20240307T150558Z
UID:10000361-1717239600-1717257600@whitehavenlibrary.com
SUMMARY:White Haven Trout Festival
DESCRIPTION:
URL:https://whitehavenlibrary.com/event/white-haven-trout-festival-2/
LOCATION:Rail Yard Park\, 121 Towanda St\, White Haven\, PA\, 18661\, United States
CATEGORIES:Bulletin,Featured
ATTACH;FMTTYPE=image/jpeg:https://whitehavenlibrary.com/wp-content/uploads/2024/03/Trout-Festival-Poster-2024.jpg
END:VEVENT
BEGIN:VEVENT
DTSTART;TZID=America/New_York:20240601T093000
DTEND;TZID=America/New_York:20240601T230000
DTSTAMP:20260423T040611
CREATED:20240307T150753Z
LAST-MODIFIED:20240508T193840Z
UID:10000362-1717234200-1717282800@whitehavenlibrary.com
SUMMARY:5K Fun Run
DESCRIPTION:
URL:https://whitehavenlibrary.com/event/5k-fun-run/
LOCATION:White Haven Area Community Library\, 121 Towanda St\, White Haven\, PA\, 18661\, United States
CATEGORIES:Bulletin,Featured
ATTACH;FMTTYPE=image/jpeg:https://whitehavenlibrary.com/wp-content/uploads/2024/03/Trout-Festival-5K-Poster-2024.jpg
END:VEVENT
BEGIN:VEVENT
DTSTART;TZID=America/New_York:20240317T150000
DTEND;TZID=America/New_York:20240317T170000
DTSTAMP:20260423T040611
CREATED:20240131T151505Z
LAST-MODIFIED:20240208T021034Z
UID:10000332-1710687600-1710694800@whitehavenlibrary.com
SUMMARY:Northeastern PA Chamber Music Society Concert
DESCRIPTION:
URL:https://whitehavenlibrary.com/event/northeastern-pa-chamber-music-society-concert/
LOCATION:White Haven Area Community Library\, 121 Towanda St\, White Haven\, PA\, 18661\, United States
CATEGORIES:Bulletin,Featured
ATTACH;FMTTYPE=image/jpeg:https://whitehavenlibrary.com/wp-content/uploads/2024/01/Concert-Poster-2024.jpg
END:VEVENT
BEGIN:VEVENT
DTSTART;TZID=America/New_York:20240309T120000
DTEND;TZID=America/New_York:20240309T150000
DTSTAMP:20260423T040611
CREATED:20230204T022542Z
LAST-MODIFIED:20240307T145047Z
UID:10000331-1709985600-1709996400@whitehavenlibrary.com
SUMMARY:Pysanky Egg Workshop
DESCRIPTION:
URL:https://whitehavenlibrary.com/event/pysanky-egg-workshop/2024-03-09/
LOCATION:White Haven Area Community Library\, 121 Towanda St\, White Haven\, PA\, 18661\, United States
CATEGORIES:Bulletin,Featured
ATTACH;FMTTYPE=image/jpeg:https://whitehavenlibrary.com/wp-content/uploads/2023/02/Pysanky-Egg-Workshop-Poster-2024.jpg
END:VEVENT
BEGIN:VEVENT
DTSTART;TZID=America/New_York:20240220T180000
DTEND;TZID=America/New_York:20240220T200000
DTSTAMP:20260423T040611
CREATED:20240131T151203Z
LAST-MODIFIED:20240208T021004Z
UID:10000330-1708452000-1708459200@whitehavenlibrary.com
SUMMARY:Adult Board Game Night
DESCRIPTION:
URL:https://whitehavenlibrary.com/event/adult-board-game-night/
LOCATION:White Haven Area Community Library\, 121 Towanda St\, White Haven\, PA\, 18661\, United States
CATEGORIES:Adult,Bulletin,Featured
ATTACH;FMTTYPE=image/jpeg:https://whitehavenlibrary.com/wp-content/uploads/2024/01/Board-Game-Night-Adults-Poster.jpg
END:VEVENT
BEGIN:VEVENT
DTSTART;TZID=America/New_York:20231202T100000
DTEND;TZID=America/New_York:20231202T150000
DTSTAMP:20260423T040611
CREATED:20230921T172421Z
LAST-MODIFIED:20231113T162410Z
UID:10000276-1701511200-1701529200@whitehavenlibrary.com
SUMMARY:Quilts & Crafts Show
DESCRIPTION:
URL:https://whitehavenlibrary.com/event/quilts-crafts-show-2/
LOCATION:White Haven Area Community Library\, 121 Towanda St\, White Haven\, PA\, 18661\, United States
CATEGORIES:Bulletin,Featured
ATTACH;FMTTYPE=image/jpeg:https://whitehavenlibrary.com/wp-content/uploads/2023/09/2023poster-2.jpg
END:VEVENT
BEGIN:VEVENT
DTSTART;TZID=America/New_York:20231112T140000
DTEND;TZID=America/New_York:20231112T160000
DTSTAMP:20260423T040611
CREATED:20230921T171747Z
LAST-MODIFIED:20230921T172116Z
UID:10000272-1699797600-1699804800@whitehavenlibrary.com
SUMMARY:"Sylvia" – A play by A.R. Gurney
DESCRIPTION:
URL:https://whitehavenlibrary.com/event/sylvia-a-play-by-a-r-gurney-2/
LOCATION:White Haven Area Community Library\, 121 Towanda St\, White Haven\, PA\, 18661\, United States
CATEGORIES:Bulletin,Featured
ATTACH;FMTTYPE=image/jpeg:https://whitehavenlibrary.com/wp-content/uploads/2023/09/Sylvia-Poster.jpg
END:VEVENT
BEGIN:VEVENT
DTSTART;TZID=America/New_York:20230821T110000
DTEND;TZID=America/New_York:20230821T120000
DTSTAMP:20260423T040611
CREATED:20230731T152205Z
LAST-MODIFIED:20230731T152205Z
UID:10000247-1692615600-1692619200@whitehavenlibrary.com
SUMMARY:SPAM for SENIORS Workshop
DESCRIPTION:
URL:https://whitehavenlibrary.com/event/spam-for-seniors-workshop/
LOCATION:White Haven Area Community Library\, 121 Towanda St\, White Haven\, PA\, 18661\, United States
CATEGORIES:Bulletin,Featured
ATTACH;FMTTYPE=image/jpeg:https://whitehavenlibrary.com/wp-content/uploads/2023/07/Scam-Seminar-Poster.jpg
END:VEVENT
BEGIN:VEVENT
DTSTART;TZID=America/New_York:20230802T183000
DTEND;TZID=America/New_York:20230802T193000
DTSTAMP:20260423T040611
CREATED:20230731T150631Z
LAST-MODIFIED:20230731T150722Z
UID:10000233-1691001000-1691004600@whitehavenlibrary.com
SUMMARY:Mental Health Resources Presentation
DESCRIPTION:
URL:https://whitehavenlibrary.com/event/mental-health-resources-presentation/
LOCATION:White Haven Area Community Library\, 121 Towanda St\, White Haven\, PA\, 18661\, United States
CATEGORIES:Bulletin,Featured
ATTACH;FMTTYPE=image/jpeg:https://whitehavenlibrary.com/wp-content/uploads/2023/07/NAMI-Poster.jpg
END:VEVENT
BEGIN:VEVENT
DTSTART;TZID=America/New_York:20230725T180000
DTEND;TZID=America/New_York:20230725T200000
DTSTAMP:20260423T040611
CREATED:20230502T185731Z
LAST-MODIFIED:20230703T162415Z
UID:10000230-1690308000-1690315200@whitehavenlibrary.com
SUMMARY:Metaphysical Discussion
DESCRIPTION:
URL:https://whitehavenlibrary.com/event/metaphysical-discussion/2023-07-25/
LOCATION:White Haven Area Community Library\, 121 Towanda St\, White Haven\, PA\, 18661\, United States
CATEGORIES:Bulletin,Featured
ATTACH;FMTTYPE=image/jpeg:https://whitehavenlibrary.com/wp-content/uploads/2023/05/Metaphysical-Poster.jpg
END:VEVENT
BEGIN:VEVENT
DTSTART;TZID=America/New_York:20230621T183000
DTEND;TZID=America/New_York:20230621T203000
DTSTAMP:20260423T040611
CREATED:20230620T163919Z
LAST-MODIFIED:20230620T165023Z
UID:10000205-1687372200-1687379400@whitehavenlibrary.com
SUMMARY:The Fisher & American Marten
DESCRIPTION:
URL:https://whitehavenlibrary.com/event/the-fisher-american-marten/
LOCATION:White Haven Area Community Library\, 121 Towanda St\, White Haven\, PA\, 18661\, United States
CATEGORIES:Bulletin,Featured
ATTACH;FMTTYPE=image/jpeg:https://whitehavenlibrary.com/wp-content/uploads/2023/06/351923355_174414802265430_3030154028100472020_n-1.jpg
END:VEVENT
END:VCALENDAR