BEGIN:VCALENDAR
VERSION:2.0
PRODID:-//White Haven Area Community Library - ECPv6.15.18//NONSGML v1.0//EN
CALSCALE:GREGORIAN
METHOD:PUBLISH
X-ORIGINAL-URL:https://whitehavenlibrary.com
X-WR-CALDESC:Events for White Haven Area Community Library
REFRESH-INTERVAL;VALUE=DURATION:PT1H
X-Robots-Tag:noindex
X-PUBLISHED-TTL:PT1H
BEGIN:VTIMEZONE
TZID:America/New_York
BEGIN:DAYLIGHT
TZOFFSETFROM:-0500
TZOFFSETTO:-0400
TZNAME:EDT
DTSTART:20210314T070000
END:DAYLIGHT
BEGIN:STANDARD
TZOFFSETFROM:-0400
TZOFFSETTO:-0500
TZNAME:EST
DTSTART:20211107T060000
END:STANDARD
BEGIN:DAYLIGHT
TZOFFSETFROM:-0500
TZOFFSETTO:-0400
TZNAME:EDT
DTSTART:20220313T070000
END:DAYLIGHT
BEGIN:STANDARD
TZOFFSETFROM:-0400
TZOFFSETTO:-0500
TZNAME:EST
DTSTART:20221106T060000
END:STANDARD
BEGIN:DAYLIGHT
TZOFFSETFROM:-0500
TZOFFSETTO:-0400
TZNAME:EDT
DTSTART:20230312T070000
END:DAYLIGHT
BEGIN:STANDARD
TZOFFSETFROM:-0400
TZOFFSETTO:-0500
TZNAME:EST
DTSTART:20231105T060000
END:STANDARD
BEGIN:DAYLIGHT
TZOFFSETFROM:-0500
TZOFFSETTO:-0400
TZNAME:EDT
DTSTART:20240310T070000
END:DAYLIGHT
BEGIN:STANDARD
TZOFFSETFROM:-0400
TZOFFSETTO:-0500
TZNAME:EST
DTSTART:20241103T060000
END:STANDARD
BEGIN:DAYLIGHT
TZOFFSETFROM:-0500
TZOFFSETTO:-0400
TZNAME:EDT
DTSTART:20250309T070000
END:DAYLIGHT
BEGIN:STANDARD
TZOFFSETFROM:-0400
TZOFFSETTO:-0500
TZNAME:EST
DTSTART:20251102T060000
END:STANDARD
BEGIN:DAYLIGHT
TZOFFSETFROM:-0500
TZOFFSETTO:-0400
TZNAME:EDT
DTSTART:20260308T070000
END:DAYLIGHT
BEGIN:STANDARD
TZOFFSETFROM:-0400
TZOFFSETTO:-0500
TZNAME:EST
DTSTART:20261101T060000
END:STANDARD
BEGIN:DAYLIGHT
TZOFFSETFROM:-0500
TZOFFSETTO:-0400
TZNAME:EDT
DTSTART:20270314T070000
END:DAYLIGHT
BEGIN:STANDARD
TZOFFSETFROM:-0400
TZOFFSETTO:-0500
TZNAME:EST
DTSTART:20271107T060000
END:STANDARD
END:VTIMEZONE
BEGIN:VTIMEZONE
TZID:UTC
BEGIN:STANDARD
TZOFFSETFROM:+0000
TZOFFSETTO:+0000
TZNAME:UTC
DTSTART:20210101T000000
END:STANDARD
END:VTIMEZONE
BEGIN:VEVENT
DTSTART;TZID=America/New_York:20260319T130000
DTEND;TZID=America/New_York:20260319T150000
DTSTAMP:20260423T053001
CREATED:20220427T160350Z
LAST-MODIFIED:20260220T143945Z
UID:10000757-1773925200-1773932400@whitehavenlibrary.com
SUMMARY:Garden Club
DESCRIPTION:
URL:https://whitehavenlibrary.com/event/garden-club/2026-03-19/
LOCATION:White Haven Area Community Library\, 121 Towanda St\, White Haven\, PA\, 18661\, United States
CATEGORIES:All Ages,Featured
END:VEVENT
BEGIN:VEVENT
DTSTART;TZID=America/New_York:20250607T110000
DTEND;TZID=America/New_York:20250607T160000
DTSTAMP:20260423T053001
CREATED:20250506T150140Z
LAST-MODIFIED:20250506T150140Z
UID:10000593-1749294000-1749312000@whitehavenlibrary.com
SUMMARY:2025 White Haven Trout Festival
DESCRIPTION:
URL:https://whitehavenlibrary.com/event/2025-white-haven-trout-festival/
LOCATION:White Haven Area Community Library\, 121 Towanda St\, White Haven\, PA\, 18661\, United States
CATEGORIES:All Ages,Bulletin,Featured
ATTACH;FMTTYPE=image/jpeg:https://whitehavenlibrary.com/wp-content/uploads/2025/05/Trout-Poster.jpg
END:VEVENT
BEGIN:VEVENT
DTSTART;TZID=America/New_York:20250408T183000
DTEND;TZID=America/New_York:20250408T203000
DTSTAMP:20260423T053001
CREATED:20220310T211730Z
LAST-MODIFIED:20250401T140233Z
UID:10000573-1744137000-1744144200@whitehavenlibrary.com
SUMMARY:Annual Library Membership Meeting
DESCRIPTION:Committee reports\nFinancial report\nEngine House Project report\nElection of new board members\nOpen meeting to the public
URL:https://whitehavenlibrary.com/event/annual-library-membership-meeting/2025-04-08/
LOCATION:White Haven Area Community Library\, 121 Towanda St\, White Haven\, PA\, 18661\, United States
CATEGORIES:All Ages,Featured
END:VEVENT
BEGIN:VEVENT
DTSTART;TZID=America/New_York:20250308T120000
DTEND;TZID=America/New_York:20250308T133000
DTSTAMP:20260423T053001
CREATED:20250303T160751Z
LAST-MODIFIED:20250303T160751Z
UID:10000560-1741435200-1741440600@whitehavenlibrary.com
SUMMARY:Dr. Seuss Scavenger Hunt
DESCRIPTION:
URL:https://whitehavenlibrary.com/event/dr-seuss-scavenger-hunt/
LOCATION:White Haven Area Community Library\, 121 Towanda St\, White Haven\, PA\, 18661\, United States
CATEGORIES:All Ages,Children,Featured
END:VEVENT
BEGIN:VEVENT
DTSTART;TZID=America/New_York:20240319T183000
DTEND;TZID=America/New_York:20240319T200000
DTSTAMP:20260423T053001
CREATED:20220310T212845Z
LAST-MODIFIED:20240307T145956Z
UID:10000357-1710873000-1710878400@whitehavenlibrary.com
SUMMARY:Western Pocono Trout Unlimited Meeting
DESCRIPTION:
URL:https://whitehavenlibrary.com/event/western-pocono-trout-unlimited-meeting/2024-03-19/
LOCATION:White Haven Area Community Library\, 121 Towanda St\, White Haven\, PA\, 18661\, United States
CATEGORIES:All Ages,Featured
END:VEVENT
BEGIN:VEVENT
DTSTART;TZID=America/New_York:20230630T100000
DTEND;TZID=America/New_York:20230630T140000
DTSTAMP:20260423T053001
CREATED:20220601T181402Z
LAST-MODIFIED:20230620T164300Z
UID:10000211-1688119200-1688133600@whitehavenlibrary.com
SUMMARY:Food & Fun Program
DESCRIPTION:
URL:https://whitehavenlibrary.com/event/food-fun-program/2023-06-30/
LOCATION:Rail Yard Park\, 121 Towanda St\, White Haven\, PA\, 18661\, United States
CATEGORIES:All Ages,Featured
END:VEVENT
BEGIN:VEVENT
DTSTART;TZID=America/New_York:20230603T120000
DTEND;TZID=America/New_York:20230603T180000
DTSTAMP:20260423T053001
CREATED:20230328T150234Z
LAST-MODIFIED:20230502T190600Z
UID:10000164-1685793600-1685815200@whitehavenlibrary.com
SUMMARY:White Haven Trout Festival
DESCRIPTION:
URL:https://whitehavenlibrary.com/event/white-haven-trout-festival/
LOCATION:White Haven Area Community Library\, 121 Towanda St\, White Haven\, PA\, 18661\, United States
CATEGORIES:All Ages,Bulletin,Featured
ATTACH;FMTTYPE=image/jpeg:https://whitehavenlibrary.com/wp-content/uploads/2023/03/Trout-Festival-Poster-2023-1.jpg
END:VEVENT
BEGIN:VEVENT
DTSTART;TZID=America/New_York:20221208T183000
DTEND;TZID=America/New_York:20221208T203000
DTSTAMP:20260423T053001
CREATED:20221129T203411Z
LAST-MODIFIED:20221129T203411Z
UID:10000102-1670524200-1670531400@whitehavenlibrary.com
SUMMARY:TSO Video
DESCRIPTION:
URL:https://whitehavenlibrary.com/event/tso-video/
LOCATION:White Haven Area Community Library\, 121 Towanda St\, White Haven\, PA\, 18661\, United States
CATEGORIES:All Ages,Featured
END:VEVENT
BEGIN:VEVENT
DTSTART;TZID=UTC:20221016T130000
DTEND;TZID=UTC:20221016T140000
DTSTAMP:20260423T053001
CREATED:20221010T202206Z
LAST-MODIFIED:20221015T201305Z
UID:10000098-1665925200-1665928800@whitehavenlibrary.com
SUMMARY:Lions Club Halloween Parade
DESCRIPTION:
URL:https://whitehavenlibrary.com/event/lions-club-halloween-parade/
LOCATION:White Haven Area Community Library\, 121 Towanda St\, White Haven\, PA\, 18661\, United States
CATEGORIES:All Ages,Featured
END:VEVENT
BEGIN:VEVENT
DTSTART;TZID=America/New_York:20220923T190000
DTEND;TZID=America/New_York:20220923T210000
DTSTAMP:20260423T053001
CREATED:20220427T161424Z
LAST-MODIFIED:20220427T161424Z
UID:10000045-1663959600-1663966800@whitehavenlibrary.com
SUMMARY:25th Anniversary Celebration
DESCRIPTION:
URL:https://whitehavenlibrary.com/event/25th-anniversary-celebration/
LOCATION:White Haven Area Community Library\, 121 Towanda St\, White Haven\, PA\, 18661\, United States
CATEGORIES:All Ages,Featured
END:VEVENT
BEGIN:VEVENT
DTSTART;TZID=America/New_York:20220802T100000
DTEND;TZID=America/New_York:20220802T140000
DTSTAMP:20260423T053001
CREATED:20220711T144028Z
LAST-MODIFIED:20220711T144028Z
UID:10000088-1659434400-1659448800@whitehavenlibrary.com
SUMMARY:WHPD "Spy Camp"
DESCRIPTION:
URL:https://whitehavenlibrary.com/event/whpd-spy-camp/
LOCATION:White Haven Area Community Library\, 121 Towanda St\, White Haven\, PA\, 18661\, United States
CATEGORIES:All Ages,Featured
END:VEVENT
BEGIN:VEVENT
DTSTART;TZID=America/New_York:20220729T100000
DTEND;TZID=America/New_York:20220729T140000
DTSTAMP:20260423T053001
CREATED:20220711T142827Z
LAST-MODIFIED:20220711T143111Z
UID:10000075-1659088800-1659103200@whitehavenlibrary.com
SUMMARY:Food 'n Fun Program
DESCRIPTION:
URL:https://whitehavenlibrary.com/event/food-n-fun-program/2022-07-29/
LOCATION:White Haven Area Community Library\, 121 Towanda St\, White Haven\, PA\, 18661\, United States
CATEGORIES:All Ages,Bulletin,Featured
ATTACH;FMTTYPE=image/jpeg:https://whitehavenlibrary.com/wp-content/uploads/2022/04/Food-n-Fun-scaled.jpg
END:VEVENT
BEGIN:VEVENT
DTSTART;TZID=America/New_York:20220712T103000
DTEND;TZID=America/New_York:20220712T123000
DTSTAMP:20260423T053001
CREATED:20220711T143536Z
LAST-MODIFIED:20220711T143536Z
UID:10000081-1657621800-1657629000@whitehavenlibrary.com
SUMMARY:Pocono Wildlife Petting Zoo
DESCRIPTION:
URL:https://whitehavenlibrary.com/event/pocono-wildlife-petting-zoo/
LOCATION:White Haven Area Community Library\, 121 Towanda St\, White Haven\, PA\, 18661\, United States
CATEGORIES:All Ages,Featured
END:VEVENT
BEGIN:VEVENT
DTSTART;TZID=America/New_York:20220615T183000
DTEND;TZID=America/New_York:20220615T193000
DTSTAMP:20260423T053001
CREATED:20220427T160458Z
LAST-MODIFIED:20220601T182954Z
UID:10000043-1655317800-1655321400@whitehavenlibrary.com
SUMMARY:Outdoor Concert in the Rail Yard Park by Jay Smar
DESCRIPTION:
URL:https://whitehavenlibrary.com/event/outdoor-concert-in-the-rail-yard-park-by-jay-smar/
LOCATION:Rail Yard Park\, 121 Towanda St\, White Haven\, PA\, 18661\, United States
CATEGORIES:All Ages,Bulletin,Featured
ATTACH;FMTTYPE=image/jpeg:https://whitehavenlibrary.com/wp-content/uploads/2022/04/Jay-Smar.jpg
END:VEVENT
BEGIN:VEVENT
DTSTART;TZID=America/New_York:20220611T100000
DTEND;TZID=America/New_York:20220611T120000
DTSTAMP:20260423T053001
CREATED:20220601T181029Z
LAST-MODIFIED:20220601T181029Z
UID:10000046-1654941600-1654948800@whitehavenlibrary.com
SUMMARY:National Knitting Outside Day
DESCRIPTION:
URL:https://whitehavenlibrary.com/event/national-knitting-outside-day/
LOCATION:Rail Yard Park\, 121 Towanda St\, White Haven\, PA\, 18661\, United States
CATEGORIES:All Ages,Featured
END:VEVENT
BEGIN:VEVENT
DTSTART;TZID=America/New_York:20220413T183000
DTEND;TZID=America/New_York:20220413T203000
DTSTAMP:20260423T053001
CREATED:20220402T011353Z
LAST-MODIFIED:20220402T020335Z
UID:10000007-1649874600-1649881800@whitehavenlibrary.com
SUMMARY:The Highwaymen - Live at Nassau Coliseum
DESCRIPTION:
URL:https://whitehavenlibrary.com/event/the-highwaymen-live-at-nassau-coliseum/
LOCATION:White Haven Area Community Library\, 121 Towanda St\, White Haven\, PA\, 18661\, United States
CATEGORIES:All Ages,Bulletin,Featured
ATTACH;FMTTYPE=image/jpeg:https://whitehavenlibrary.com/wp-content/uploads/2022/04/HIGHWAYMEN-POSTER.jpg
END:VEVENT
BEGIN:VEVENT
DTSTART;TZID=America/New_York:20220317T123000
DTEND;TZID=America/New_York:20220317T140000
DTSTAMP:20260423T053001
CREATED:20220310T210810Z
LAST-MODIFIED:20220311T022740Z
UID:10000004-1647520200-1647525600@whitehavenlibrary.com
SUMMARY:White Haven Garden Club Re‑organization Meeting
DESCRIPTION:
URL:https://whitehavenlibrary.com/event/white-haven-garden-club-re-organization-meeting/
LOCATION:White Haven Area Community Library\, 121 Towanda St\, White Haven\, PA\, 18661\, United States
CATEGORIES:All Ages,Featured
END:VEVENT
END:VCALENDAR