BEGIN:VCALENDAR
VERSION:2.0
PRODID:-//White Haven Area Community Library - ECPv6.15.18//NONSGML v1.0//EN
CALSCALE:GREGORIAN
METHOD:PUBLISH
X-ORIGINAL-URL:https://whitehavenlibrary.com
X-WR-CALDESC:Events for White Haven Area Community Library
REFRESH-INTERVAL;VALUE=DURATION:PT1H
X-Robots-Tag:noindex
X-PUBLISHED-TTL:PT1H
BEGIN:VTIMEZONE
TZID:America/New_York
BEGIN:DAYLIGHT
TZOFFSETFROM:-0500
TZOFFSETTO:-0400
TZNAME:EDT
DTSTART:20220313T070000
END:DAYLIGHT
BEGIN:STANDARD
TZOFFSETFROM:-0400
TZOFFSETTO:-0500
TZNAME:EST
DTSTART:20221106T060000
END:STANDARD
BEGIN:DAYLIGHT
TZOFFSETFROM:-0500
TZOFFSETTO:-0400
TZNAME:EDT
DTSTART:20230312T070000
END:DAYLIGHT
BEGIN:STANDARD
TZOFFSETFROM:-0400
TZOFFSETTO:-0500
TZNAME:EST
DTSTART:20231105T060000
END:STANDARD
BEGIN:DAYLIGHT
TZOFFSETFROM:-0500
TZOFFSETTO:-0400
TZNAME:EDT
DTSTART:20240310T070000
END:DAYLIGHT
BEGIN:STANDARD
TZOFFSETFROM:-0400
TZOFFSETTO:-0500
TZNAME:EST
DTSTART:20241103T060000
END:STANDARD
BEGIN:DAYLIGHT
TZOFFSETFROM:-0500
TZOFFSETTO:-0400
TZNAME:EDT
DTSTART:20250309T070000
END:DAYLIGHT
BEGIN:STANDARD
TZOFFSETFROM:-0400
TZOFFSETTO:-0500
TZNAME:EST
DTSTART:20251102T060000
END:STANDARD
BEGIN:DAYLIGHT
TZOFFSETFROM:-0500
TZOFFSETTO:-0400
TZNAME:EDT
DTSTART:20260308T070000
END:DAYLIGHT
BEGIN:STANDARD
TZOFFSETFROM:-0400
TZOFFSETTO:-0500
TZNAME:EST
DTSTART:20261101T060000
END:STANDARD
BEGIN:DAYLIGHT
TZOFFSETFROM:-0500
TZOFFSETTO:-0400
TZNAME:EDT
DTSTART:20270314T070000
END:DAYLIGHT
BEGIN:STANDARD
TZOFFSETFROM:-0400
TZOFFSETTO:-0500
TZNAME:EST
DTSTART:20271107T060000
END:STANDARD
END:VTIMEZONE
BEGIN:VEVENT
DTSTART;TZID=America/New_York:20260401T183000
DTEND;TZID=America/New_York:20260401T200000
DTSTAMP:20260423T001151
CREATED:20260329T194500Z
LAST-MODIFIED:20260329T194500Z
UID:10000816-1775068200-1775073600@whitehavenlibrary.com
SUMMARY:Adult Book Club
DESCRIPTION:
URL:https://whitehavenlibrary.com/event/adult-book-club-2/
LOCATION:White Haven Area Community Library\, 121 Towanda St\, White Haven\, PA\, 18661\, United States
CATEGORIES:Adult,Featured
END:VEVENT
BEGIN:VEVENT
DTSTART;TZID=America/New_York:20260204T180000
DTEND;TZID=America/New_York:20260204T200000
DTSTAMP:20260423T001151
CREATED:20260128T181800Z
LAST-MODIFIED:20260128T181800Z
UID:10000705-1770228000-1770235200@whitehavenlibrary.com
SUMMARY:Adult Book Club
DESCRIPTION:
URL:https://whitehavenlibrary.com/event/adult-book-club/
LOCATION:White Haven Area Community Library\, 121 Towanda St\, White Haven\, PA\, 18661\, United States
CATEGORIES:Adult,Featured
END:VEVENT
BEGIN:VEVENT
DTSTART;TZID=America/New_York:20250618T183000
DTEND;TZID=America/New_York:20250618T203000
DTSTAMP:20260423T001151
CREATED:20250210T165058Z
LAST-MODIFIED:20260212T173601Z
UID:10000597-1750271400-1750278600@whitehavenlibrary.com
SUMMARY:Romance/Fantasy Book Club
DESCRIPTION:Book to be discussed…TBD
URL:https://whitehavenlibrary.com/event/romance-fantasy-book-club-2/2025-06-18/
LOCATION:White Haven Area Community Library\, 121 Towanda St\, White Haven\, PA\, 18661\, United States
CATEGORIES:Adult,Featured
END:VEVENT
BEGIN:VEVENT
DTSTART;TZID=America/New_York:20240220T180000
DTEND;TZID=America/New_York:20240220T200000
DTSTAMP:20260423T001151
CREATED:20240131T151203Z
LAST-MODIFIED:20240208T021004Z
UID:10000330-1708452000-1708459200@whitehavenlibrary.com
SUMMARY:Adult Board Game Night
DESCRIPTION:
URL:https://whitehavenlibrary.com/event/adult-board-game-night/
LOCATION:White Haven Area Community Library\, 121 Towanda St\, White Haven\, PA\, 18661\, United States
CATEGORIES:Adult,Bulletin,Featured
ATTACH;FMTTYPE=image/jpeg:https://whitehavenlibrary.com/wp-content/uploads/2024/01/Board-Game-Night-Adults-Poster.jpg
END:VEVENT
BEGIN:VEVENT
DTSTART;TZID=America/New_York:20230927T180000
DTEND;TZID=America/New_York:20230927T200000
DTSTAMP:20260423T001151
CREATED:20230502T185645Z
LAST-MODIFIED:20230921T165517Z
UID:10000253-1695837600-1695844800@whitehavenlibrary.com
SUMMARY:Bourbon & Books Book Club
DESCRIPTION:
URL:https://whitehavenlibrary.com/event/bourbon-books-book-club/2023-09-27/
LOCATION:White Haven Area Community Library\, 121 Towanda St\, White Haven\, PA\, 18661\, United States
CATEGORIES:Adult,Featured
END:VEVENT
END:VCALENDAR