BEGIN:VCALENDAR
VERSION:2.0
PRODID:-//White Haven Area Community Library - ECPv6.15.18//NONSGML v1.0//EN
CALSCALE:GREGORIAN
METHOD:PUBLISH
X-ORIGINAL-URL:https://whitehavenlibrary.com
X-WR-CALDESC:Events for White Haven Area Community Library
REFRESH-INTERVAL;VALUE=DURATION:PT1H
X-Robots-Tag:noindex
X-PUBLISHED-TTL:PT1H
BEGIN:VTIMEZONE
TZID:America/New_York
BEGIN:DAYLIGHT
TZOFFSETFROM:-0500
TZOFFSETTO:-0400
TZNAME:EDT
DTSTART:20250309T070000
END:DAYLIGHT
BEGIN:STANDARD
TZOFFSETFROM:-0400
TZOFFSETTO:-0500
TZNAME:EST
DTSTART:20251102T060000
END:STANDARD
BEGIN:DAYLIGHT
TZOFFSETFROM:-0500
TZOFFSETTO:-0400
TZNAME:EDT
DTSTART:20260308T070000
END:DAYLIGHT
BEGIN:STANDARD
TZOFFSETFROM:-0400
TZOFFSETTO:-0500
TZNAME:EST
DTSTART:20261101T060000
END:STANDARD
BEGIN:DAYLIGHT
TZOFFSETFROM:-0500
TZOFFSETTO:-0400
TZNAME:EDT
DTSTART:20270314T070000
END:DAYLIGHT
BEGIN:STANDARD
TZOFFSETFROM:-0400
TZOFFSETTO:-0500
TZNAME:EST
DTSTART:20271107T060000
END:STANDARD
END:VTIMEZONE
BEGIN:VEVENT
DTSTART;TZID=America/New_York:20260701T183000
DTEND;TZID=America/New_York:20260701T200000
DTSTAMP:20260423T021714
CREATED:20260331T200548Z
LAST-MODIFIED:20260331T200548Z
UID:10000819-1782930600-1782936000@whitehavenlibrary.com
SUMMARY:Adult Book Club
DESCRIPTION:
URL:https://whitehavenlibrary.com/event/adult-book-club-3/2026-07-01/
LOCATION:White Haven Area Community Library\, 121 Towanda St\, White Haven\, PA\, 18661\, United States
CATEGORIES:Adult,Featured
END:VEVENT
END:VCALENDAR