BEGIN:VCALENDAR
VERSION:2.0
PRODID:-//White Haven Area Community Library - ECPv6.15.18//NONSGML v1.0//EN
CALSCALE:GREGORIAN
METHOD:PUBLISH
X-WR-CALNAME:White Haven Area Community Library
X-ORIGINAL-URL:https://whitehavenlibrary.com
X-WR-CALDESC:Events for White Haven Area Community Library
REFRESH-INTERVAL;VALUE=DURATION:PT1H
X-Robots-Tag:noindex
X-PUBLISHED-TTL:PT1H
BEGIN:VTIMEZONE
TZID:America/New_York
BEGIN:DAYLIGHT
TZOFFSETFROM:-0500
TZOFFSETTO:-0400
TZNAME:EDT
DTSTART:20250309T070000
END:DAYLIGHT
BEGIN:STANDARD
TZOFFSETFROM:-0400
TZOFFSETTO:-0500
TZNAME:EST
DTSTART:20251102T060000
END:STANDARD
BEGIN:DAYLIGHT
TZOFFSETFROM:-0500
TZOFFSETTO:-0400
TZNAME:EDT
DTSTART:20260308T070000
END:DAYLIGHT
BEGIN:STANDARD
TZOFFSETFROM:-0400
TZOFFSETTO:-0500
TZNAME:EST
DTSTART:20261101T060000
END:STANDARD
BEGIN:DAYLIGHT
TZOFFSETFROM:-0500
TZOFFSETTO:-0400
TZNAME:EDT
DTSTART:20270314T070000
END:DAYLIGHT
BEGIN:STANDARD
TZOFFSETFROM:-0400
TZOFFSETTO:-0500
TZNAME:EST
DTSTART:20271107T060000
END:STANDARD
END:VTIMEZONE
BEGIN:VEVENT
DTSTART;TZID=America/New_York:20260422T160000
DTEND;TZID=America/New_York:20260422T180000
DTSTAMP:20260422T180128
CREATED:20260217T145425Z
LAST-MODIFIED:20260217T145425Z
UID:10000742-1776873600-1776880800@whitehavenlibrary.com
SUMMARY:YMCA After School Program
DESCRIPTION:A 10-week after-school program for students in grades 4-8
URL:https://whitehavenlibrary.com/event/ymca-after-school-program/2026-04-22/
LOCATION:White Haven Area Community Library\, 121 Towanda St\, White Haven\, PA\, 18661\, United States
CATEGORIES:Bulletin,Featured
ATTACH;FMTTYPE=image/png:https://whitehavenlibrary.com/wp-content/uploads/2026/02/image.png
END:VEVENT
BEGIN:VEVENT
DTSTART;TZID=America/New_York:20260423T063000
DTEND;TZID=America/New_York:20260423T203000
DTSTAMP:20260422T180128
CREATED:20260331T204538Z
LAST-MODIFIED:20260331T204538Z
UID:10000887-1776925800-1776976200@whitehavenlibrary.com
SUMMARY:Lions Club Meeting
DESCRIPTION:
URL:https://whitehavenlibrary.com/event/lions-club-meeting-2/2026-04-23/
LOCATION:White Haven Area Community Library\, 121 Towanda St\, White Haven\, PA\, 18661\, United States
CATEGORIES:Featured
END:VEVENT
BEGIN:VEVENT
DTSTART;TZID=America/New_York:20260423T100000
DTEND;TZID=America/New_York:20260423T120000
DTSTAMP:20260422T180128
CREATED:20260331T202321Z
LAST-MODIFIED:20260331T203638Z
UID:10000863-1776938400-1776945600@whitehavenlibrary.com
SUMMARY:Fiber Arts Club
DESCRIPTION:
URL:https://whitehavenlibrary.com/event/fiber-arts-club-2/2026-04-23/
LOCATION:White Haven Area Community Library\, 121 Towanda St\, White Haven\, PA\, 18661\, United States
CATEGORIES:Featured
END:VEVENT
BEGIN:VEVENT
DTSTART;TZID=America/New_York:20260423T160000
DTEND;TZID=America/New_York:20260423T180000
DTSTAMP:20260422T180128
CREATED:20260217T145425Z
LAST-MODIFIED:20260217T145425Z
UID:10000743-1776960000-1776967200@whitehavenlibrary.com
SUMMARY:YMCA After School Program
DESCRIPTION:A 10-week after-school program for students in grades 4-8
URL:https://whitehavenlibrary.com/event/ymca-after-school-program/2026-04-23/
LOCATION:White Haven Area Community Library\, 121 Towanda St\, White Haven\, PA\, 18661\, United States
CATEGORIES:Bulletin,Featured
ATTACH;FMTTYPE=image/png:https://whitehavenlibrary.com/wp-content/uploads/2026/02/image.png
END:VEVENT
BEGIN:VEVENT
DTSTART;TZID=America/New_York:20260427T160000
DTEND;TZID=America/New_York:20260427T180000
DTSTAMP:20260422T180128
CREATED:20260217T145425Z
LAST-MODIFIED:20260217T145425Z
UID:10000744-1777305600-1777312800@whitehavenlibrary.com
SUMMARY:YMCA After School Program
DESCRIPTION:A 10-week after-school program for students in grades 4-8
URL:https://whitehavenlibrary.com/event/ymca-after-school-program/2026-04-27/
LOCATION:White Haven Area Community Library\, 121 Towanda St\, White Haven\, PA\, 18661\, United States
CATEGORIES:Bulletin,Featured
ATTACH;FMTTYPE=image/png:https://whitehavenlibrary.com/wp-content/uploads/2026/02/image.png
END:VEVENT
BEGIN:VEVENT
DTSTART;TZID=America/New_York:20260429T160000
DTEND;TZID=America/New_York:20260429T180000
DTSTAMP:20260422T180128
CREATED:20260217T145425Z
LAST-MODIFIED:20260217T145425Z
UID:10000745-1777478400-1777485600@whitehavenlibrary.com
SUMMARY:YMCA After School Program
DESCRIPTION:A 10-week after-school program for students in grades 4-8
URL:https://whitehavenlibrary.com/event/ymca-after-school-program/2026-04-29/
LOCATION:White Haven Area Community Library\, 121 Towanda St\, White Haven\, PA\, 18661\, United States
CATEGORIES:Bulletin,Featured
ATTACH;FMTTYPE=image/png:https://whitehavenlibrary.com/wp-content/uploads/2026/02/image.png
END:VEVENT
BEGIN:VEVENT
DTSTART;TZID=America/New_York:20260430T160000
DTEND;TZID=America/New_York:20260430T180000
DTSTAMP:20260422T180128
CREATED:20260217T145425Z
LAST-MODIFIED:20260217T145425Z
UID:10000746-1777564800-1777572000@whitehavenlibrary.com
SUMMARY:YMCA After School Program
DESCRIPTION:A 10-week after-school program for students in grades 4-8
URL:https://whitehavenlibrary.com/event/ymca-after-school-program/2026-04-30/
LOCATION:White Haven Area Community Library\, 121 Towanda St\, White Haven\, PA\, 18661\, United States
CATEGORIES:Bulletin,Featured
ATTACH;FMTTYPE=image/png:https://whitehavenlibrary.com/wp-content/uploads/2026/02/image.png
END:VEVENT
END:VCALENDAR